BEGIN_USGS_DOQ_HEADER *
QUADRANGLE_NAME "HURON" *
QUADRANT SW *
NORTH_LATITUDE 36 11 15.000 *
WEST_LONGITUDE -120 07 30.000 *
SOUTH_LATITUDE 36 07 30.000 *
EAST_LONGITUDE -120 03 45.000 *
PRODUCTION_DATE 1998 11 04 *
RASTER_ORDER LEFT_RIGHT/TOP_BOTTOM *
BAND_ORGANIZATION "SINGLE FILE" *
BAND_CONTENT BLACK&WHITE *
BITS_PER_PIXEL 8 *
SAMPLES_AND_LINES 6540 7740 *
HORIZONTAL_DATUM NAD83 *
HORIZONTAL_COORDINATE_SYSTEM UTM *
COORDINATE_ZONE 10 *
HORIZONTAL_UNITS METERS *
HORIZONTAL_RESOLUTION 1.000 *
SECONDARY_HORIZONTAL_DATUM NAD27 *
XY_ORIGIN 758130.000 4009050.000 *
SECONDARY_XY_ORIGIN 758223.615 4008856.866 *
NATION US *
STATE CA *
NW_QUAD_CORNER_XY 758535.283 4008576.912 *
NE_QUAD_CORNER_XY 764157.101 4008745.424 *
SE_QUAD_CORNER_XY 764367.062 4001810.289 *
SW_QUAD_CORNER_XY 758740.765 4001641.894 *
SECONDARY_NW_QUAD_XY 758541.454 4008376.006 *
SECONDARY_NE_QUAD_XY 764163.407 4008544.522 *
SECONDARY_SE_QUAD_XY 764373.363 4001609.560 *
SECONDARY_SW_QUAD_XY 758746.932 4001441.161 *
RMSE_XY 0.618 *
IMAGE_SOURCE "BLACK AND WHITE FILM" *
SOURCE_IMAGE_ID "NAPP 6915 176" *
SOURCE_IMAGE_DATE 1994 04 21 *
SOURCE_DEM_DATE 1971 01 01 *
AGENCY "WESTERN MAPPING CENTER (WMC)" *
PRODUCER "ANALYTICAL SURVEYS INC." *
PRODUCTION_SYSTEM "ORBIT OR_RECTIFY V.5.2" *
STANDARD_VERSION 1996 12 *
METADATA_DATE 1998 11 10 *
DATA_FILE_SIZE 50626140 *
BYTE_COUNT 6540 * * * * * * * * * * * * * * * * * * * * * * * * * * * * * * * * * * * * * * *
END_USGS_HEADER *
