BEGIN_USGS_DOQ_HEADER *
QUADRANGLE_NAME "COALINGA" *
QUADRANT NW *
NORTH_LATITUDE 36 15 00.000 *
WEST_LONGITUDE -120 22 30.000 *
SOUTH_LATITUDE 36 11 15.000 *
EAST_LONGITUDE -120 18 45.000 *
PRODUCTION_DATE 1998 10 20 *
RASTER_ORDER LEFT_RIGHT/TOP_BOTTOM *
BAND_ORGANIZATION "SINGLE FILE" *
BAND_CONTENT BLACK&WHITE *
BITS_PER_PIXEL 8 *
SAMPLES_AND_LINES 6540 7740 *
HORIZONTAL_DATUM NAD83 *
HORIZONTAL_COORDINATE_SYSTEM UTM *
COORDINATE_ZONE 10 *
HORIZONTAL_UNITS METERS *
HORIZONTAL_RESOLUTION 1.000 *
SECONDARY_HORIZONTAL_DATUM NAD27 *
XY_ORIGIN 735450.000 4015350.000 *
SECONDARY_XY_ORIGIN 735543.995 4015156.499 *
NATION US *
STATE CA *
NW_QUAD_CORNER_XY 735861.067 4014873.816 *
NE_QUAD_CORNER_XY 741478.041 4015027.907 *
SE_QUAD_CORNER_XY 741670.381 4008093.169 *
SW_QUAD_CORNER_XY 736048.925 4007939.185 *
SECONDARY_NW_QUAD_XY 735866.707 4014672.722 *
SECONDARY_NE_QUAD_XY 741483.815 4014826.817 *
SECONDARY_SE_QUAD_XY 741676.149 4007892.252 *
SECONDARY_SW_QUAD_XY 736054.559 4007738.264 *
RMSE_XY 1.008 *
IMAGE_SOURCE "BLACK AND WHITE FILM" *
SOURCE_IMAGE_ID "NAPP 6915 14" *
SOURCE_IMAGE_DATE 1994 04 21 *
SOURCE_DEM_DATE 1978 01 01 *
AGENCY "WESTERN MAPPING CENTER (WMC)" *
PRODUCER "ANALYTICAL SURVEYS INC." *
PRODUCTION_SYSTEM "ORBIT OR_RECTIFY V.5.2" *
STANDARD_VERSION 1996 12 *
METADATA_DATE 1998 10 23 *
DATA_FILE_SIZE 50626140 *
BYTE_COUNT 6540 * * * * * * * * * * * * * * * * * * * * * * * * * * * * * * * * * * * * * * *
END_USGS_HEADER *
