BEGIN_USGS_DOQ_HEADER *
QUADRANGLE_NAME "SHERMAN PEAK" *
QUADRANT SW *
NORTH_LATITUDE 36 11 15.000 *
WEST_LONGITUDE -120 37 30.000 *
SOUTH_LATITUDE 36 07 30.000 *
EAST_LONGITUDE -120 33 45.000 *
PRODUCTION_DATE 1998 10 20 *
RASTER_ORDER LEFT_RIGHT/TOP_BOTTOM *
BAND_ORGANIZATION "SINGLE FILE" *
BAND_CONTENT BLACK&WHITE *
BITS_PER_PIXEL 8 *
SAMPLES_AND_LINES 6510 7710 *
HORIZONTAL_DATUM NAD83 *
HORIZONTAL_COORDINATE_SYSTEM UTM *
COORDINATE_ZONE 10 *
HORIZONTAL_UNITS METERS *
HORIZONTAL_RESOLUTION 1.000 *
SECONDARY_HORIZONTAL_DATUM NAD27 *
XY_ORIGIN 713160.000 4007820.000 *
SECONDARY_XY_ORIGIN 713254.889 4007625.692 *
NATION US *
STATE CA *
NW_QUAD_CORNER_XY 713563.938 4007359.546 *
NE_QUAD_CORNER_XY 719185.063 4007499.012 *
SE_QUAD_CORNER_XY 719359.216 4000564.745 *
SW_QUAD_CORNER_XY 713733.618 4000425.377 *
SECONDARY_NW_QUAD_XY 713569.035 4007158.611 *
SECONDARY_NE_QUAD_XY 719190.295 4007298.080 *
SECONDARY_SE_QUAD_XY 719364.443 4000363.987 *
SECONDARY_SW_QUAD_XY 713738.711 4000224.615 *
RMSE_XY 2.873 *
IMAGE_SOURCE "BLACK AND WHITE FILM" *
SOURCE_IMAGE_ID "NAPP 6917 28" *
SOURCE_IMAGE_DATE 1994 05 10 *
SOURCE_DEM_DATE 1969 01 01 *
AGENCY "WESTERN MAPPING CENTER (WMC)" *
PRODUCER "ANALYTICAL SURVEYS INC." *
PRODUCTION_SYSTEM "ORBIT OR_RECTIFY V.5.2" *
STANDARD_VERSION 1996 12 *
METADATA_DATE 1998 10 23 *
DATA_FILE_SIZE 50198610 *
BYTE_COUNT 6510 * * * * * * * * * * * * * * * * * * * * * * * * * * * * * * * * * * * * * * *
END_USGS_HEADER *
