BEGIN_USGS_DOQ_HEADER *
QUADRANGLE_NAME "PRIEST VALLEY" *
QUADRANT NW *
NORTH_LATITUDE 36 15 00.000 *
WEST_LONGITUDE -120 45 00.000 *
SOUTH_LATITUDE 36 11 15.000 *
EAST_LONGITUDE -120 41 15.000 *
PRODUCTION_DATE 1998 10 17 *
RASTER_ORDER LEFT_RIGHT/TOP_BOTTOM *
BAND_ORGANIZATION "SINGLE FILE" *
BAND_CONTENT BLACK&WHITE *
BITS_PER_PIXEL 8 *
SAMPLES_AND_LINES 6510 7710 *
HORIZONTAL_DATUM NAD83 *
HORIZONTAL_COORDINATE_SYSTEM UTM *
COORDINATE_ZONE 10 *
HORIZONTAL_UNITS METERS *
HORIZONTAL_RESOLUTION 1.000 *
SECONDARY_HORIZONTAL_DATUM NAD27 *
XY_ORIGIN 701760.000 4014480.000 *
SECONDARY_XY_ORIGIN 701855.420 4014284.924 *
NATION US *
STATE CA *
NW_QUAD_CORNER_XY 702160.940 4014025.544 *
NE_QUAD_CORNER_XY 707777.434 4014157.845 *
SE_QUAD_CORNER_XY 707942.890 4007223.709 *
SW_QUAD_CORNER_XY 702321.917 4007091.500 *
SECONDARY_NW_QUAD_XY 702165.773 4013824.430 *
SECONDARY_NE_QUAD_XY 707782.401 4013956.734 *
SECONDARY_SE_QUAD_XY 707947.853 4007022.771 *
SECONDARY_SW_QUAD_XY 702326.746 4006890.559 *
RMSE_XY 3.421 *
IMAGE_SOURCE "BLACK AND WHITE FILM" *
SOURCE_IMAGE_ID "NAPP 6917 64" *
SOURCE_IMAGE_DATE 1994 05 10 *
SOURCE_IMAGE_ID "NAPP 6917 83" *
SOURCE_IMAGE_DATE 1994 05 10 *
SOURCE_IMAGE_ID "NAPP 6917 62" *
SOURCE_IMAGE_DATE 1994 05 10 *
SOURCE_IMAGE_ID "NAPP 6917 47" *
SOURCE_IMAGE_DATE 1994 05 10 *
SOURCE_IMAGE_ID "NAPP 6917 66" *
SOURCE_IMAGE_DATE 1994 05 10 *
SOURCE_DEM_DATE 1984 01 01 *
AGENCY "WESTERN MAPPING CENTER (WMC)" *
PRODUCER "ANALYTICAL SURVEYS INC." *
PRODUCTION_SYSTEM "ORBIT OR_RECTIFY V.5.2" *
STANDARD_VERSION 1996 12 *
METADATA_DATE 1998 10 20 *
DATA_FILE_SIZE 50198610 *
BYTE_COUNT 6510 * * * * * * * * * * * * * * * * * * * * * * * * * * * * * * *
END_USGS_HEADER *
