BEGIN_USGS_DOQ_HEADER *
QUADRANGLE_NAME "MONARCH PEAK" *
QUADRANT SW *
NORTH_LATITUDE 36 11 15.000 *
WEST_LONGITUDE -120 52 30.000 *
SOUTH_LATITUDE 36 07 30.000 *
EAST_LONGITUDE -120 48 45.000 *
PRODUCTION_DATE 1998 10 17 *
RASTER_ORDER LEFT_RIGHT/TOP_BOTTOM *
BAND_ORGANIZATION "SINGLE FILE" *
BAND_CONTENT BLACK&WHITE *
BITS_PER_PIXEL 8 *
SAMPLES_AND_LINES 6510 7710 *
HORIZONTAL_DATUM NAD83 *
HORIZONTAL_COORDINATE_SYSTEM UTM *
COORDINATE_ZONE 10 *
HORIZONTAL_UNITS METERS *
HORIZONTAL_RESOLUTION 1.000 *
SECONDARY_HORIZONTAL_DATUM NAD27 *
XY_ORIGIN 690660.000 4007280.000 *
SECONDARY_XY_ORIGIN 690755.754 4007084.944 *
NATION US *
STATE CA *
NW_QUAD_CORNER_XY 691080.191 4006837.964 *
NE_QUAD_CORNER_XY 696701.018 4006962.918 *
SE_QUAD_CORNER_XY 696857.283 4000029.025 *
SW_QUAD_CORNER_XY 691231.984 3999904.158 *
SECONDARY_NW_QUAD_XY 691084.751 4006637.017 *
SECONDARY_NE_QUAD_XY 696705.713 4006761.974 *
SECONDARY_SE_QUAD_XY 696861.973 3999828.254 *
SECONDARY_SW_QUAD_XY 691236.541 3999703.384 *
RMSE_XY 3.869 *
IMAGE_SOURCE "BLACK AND WHITE FILM" *
SOURCE_IMAGE_ID "NAPP 6923 217" *
SOURCE_IMAGE_DATE 1994 05 28 *
SOURCE_IMAGE_ID "NAPP 6917 85" *
SOURCE_IMAGE_DATE 1994 05 10 *
SOURCE_IMAGE_ID "NAPP 6917 115" *
SOURCE_IMAGE_DATE 1994 05 10 *
SOURCE_IMAGE_ID "NAPP 6917 113" *
SOURCE_IMAGE_DATE 1994 05 10 *
SOURCE_DEM_DATE 1998 01 01 *
AGENCY "WESTERN MAPPING CENTER (WMC)" *
PRODUCER "ANALYTICAL SURVEYS INC." *
PRODUCTION_SYSTEM "ORBIT OR_RECTIFY V.5.2" *
STANDARD_VERSION 1996 12 *
METADATA_DATE 1998 10 20 *
DATA_FILE_SIZE 50198610 *
BYTE_COUNT 6510 * * * * * * * * * * * * * * * * * * * * * * * * * * * * * * * * *
END_USGS_HEADER *
