BEGIN_USGS_DOQ_HEADER *
QUADRANGLE_NAME "NATTRASS VALLEY" *
QUADRANT SE *
NORTH_LATITUDE 36 11 15.000 *
WEST_LONGITUDE -120 56 15.000 *
SOUTH_LATITUDE 36 07 30.000 *
EAST_LONGITUDE -120 52 30.000 *
PRODUCTION_DATE 1998 10 17 *
RASTER_ORDER LEFT_RIGHT/TOP_BOTTOM *
BAND_ORGANIZATION "SINGLE FILE" *
BAND_CONTENT BLACK&WHITE *
BITS_PER_PIXEL 8 *
SAMPLES_AND_LINES 6510 7710 *
HORIZONTAL_DATUM NAD83 *
HORIZONTAL_COORDINATE_SYSTEM UTM *
COORDINATE_ZONE 10 *
HORIZONTAL_UNITS METERS *
HORIZONTAL_RESOLUTION 1.000 *
SECONDARY_HORIZONTAL_DATUM NAD27 *
XY_ORIGIN 685050.000 4007160.000 *
SECONDARY_XY_ORIGIN 685145.921 4006964.857 *
NATION US *
STATE CA *
NW_QUAD_CORNER_XY 685459.433 4006716.636 *
NE_QUAD_CORNER_XY 691080.191 4006837.964 *
SE_QUAD_CORNER_XY 691231.984 3999904.158 *
SW_QUAD_CORNER_XY 685606.756 3999782.915 *
SECONDARY_NW_QUAD_XY 685463.859 4006515.686 *
SECONDARY_NE_QUAD_XY 691084.751 4006637.017 *
SECONDARY_SE_QUAD_XY 691236.541 3999703.384 *
SECONDARY_SW_QUAD_XY 685611.178 3999582.138 *
RMSE_XY 2.383 *
IMAGE_SOURCE "BLACK AND WHITE FILM" *
SOURCE_IMAGE_ID "NAPP 6917 115" *
SOURCE_IMAGE_DATE 1994 05 10 *
SOURCE_IMAGE_ID "NAPP 6917 113" *
SOURCE_IMAGE_DATE 1994 05 10 *
SOURCE_DEM_DATE 1984 01 01 *
AGENCY "WESTERN MAPPING CENTER (WMC)" *
PRODUCER "ANALYTICAL SURVEYS INC." *
PRODUCTION_SYSTEM "ORBIT OR_RECTIFY V.5.2" *
STANDARD_VERSION 1996 12 *
METADATA_DATE 1998 10 20 *
DATA_FILE_SIZE 50198610 *
BYTE_COUNT 6510 * * * * * * * * * * * * * * * * * * * * * * * * * * * * * * * * * * * * *
END_USGS_HEADER *
