BEGIN_USGS_DOQ_HEADER *
QUADRANGLE_NAME "HEPSEDAM PEAK" *
QUADRANT SE *
NORTH_LATITUDE 36 18 45.000 *
WEST_LONGITUDE -120 48 45.000 *
SOUTH_LATITUDE 36 15 00.000 *
EAST_LONGITUDE -120 45 00.000 *
PRODUCTION_DATE 1998 10 15 *
RASTER_ORDER LEFT_RIGHT/TOP_BOTTOM *
BAND_ORGANIZATION "SINGLE FILE" *
BAND_CONTENT BLACK&WHITE *
BITS_PER_PIXEL 8 *
SAMPLES_AND_LINES 6510 7680 *
HORIZONTAL_DATUM NAD83 *
HORIZONTAL_COORDINATE_SYSTEM UTM *
COORDINATE_ZONE 10 *
HORIZONTAL_UNITS METERS *
HORIZONTAL_RESOLUTION 1.000 *
SECONDARY_HORIZONTAL_DATUM NAD27 *
XY_ORIGIN 695970.000 4021260.000 *
SECONDARY_XY_ORIGIN 696065.478 4021064.913 *
NATION US *
STATE CA *
NW_QUAD_CORNER_XY 696387.786 4020830.891 *
NE_QUAD_CORNER_XY 701999.723 4020959.650 *
SE_QUAD_CORNER_XY 702160.940 4014025.544 *
SW_QUAD_CORNER_XY 696544.520 4013896.874 *
SECONDARY_NW_QUAD_XY 696392.489 4020629.602 *
SECONDARY_NE_QUAD_XY 702004.559 4020758.364 *
SECONDARY_SE_QUAD_XY 702165.773 4013824.430 *
SECONDARY_SW_QUAD_XY 696549.218 4013695.757 *
RMSE_XY 2.285 *
IMAGE_SOURCE "BLACK AND WHITE FILM" *
SOURCE_IMAGE_ID "NAPP 6917 81" *
SOURCE_IMAGE_DATE 1994 05 10 *
SOURCE_IMAGE_ID "NAPP 6917 79" *
SOURCE_IMAGE_DATE 1994 05 10 *
SOURCE_DEM_DATE 1998 01 01 *
AGENCY "WESTERN MAPPING CENTER (WMC)" *
PRODUCER "ANALYTICAL SURVEYS INC." *
PRODUCTION_SYSTEM "ORBIT OR_RECTIFY V.5.2" *
STANDARD_VERSION 1996 12 *
METADATA_DATE 1998 10 20 *
DATA_FILE_SIZE 50003310 *
BYTE_COUNT 6510 * * * * * * * * * * * * * * * * * * * * * * * * * * * * * * * * * * * * *
END_USGS_HEADER *
