BEGIN_USGS_DOQ_HEADER *
QUADRANGLE_NAME "WESTSIDE" *
QUADRANT NE *
NORTH_LATITUDE 36 30 00.000 *
WEST_LONGITUDE -120 11 15.000 *
SOUTH_LATITUDE 36 26 15.000 *
EAST_LONGITUDE -120 07 30.000 *
PRODUCTION_DATE 1998 11 05 *
RASTER_ORDER LEFT_RIGHT/TOP_BOTTOM *
BAND_ORGANIZATION "SINGLE FILE" *
BAND_CONTENT BLACK&WHITE *
BITS_PER_PIXEL 8 *
SAMPLES_AND_LINES 6540 7740 *
HORIZONTAL_DATUM NAD83 *
HORIZONTAL_COORDINATE_SYSTEM UTM *
COORDINATE_ZONE 10 *
HORIZONTAL_UNITS METERS *
HORIZONTAL_RESOLUTION 1.000 *
SECONDARY_HORIZONTAL_DATUM NAD27 *
XY_ORIGIN 751500.000 4043580.000 *
SECONDARY_XY_ORIGIN 751594.090 4043386.280 *
NATION US *
STATE CA *
NW_QUAD_CORNER_XY 751904.015 4043087.375 *
NE_QUAD_CORNER_XY 757503.252 4043252.816 *
SE_QUAD_CORNER_XY 757710.273 4036317.527 *
SW_QUAD_CORNER_XY 752106.525 4036152.196 *
SECONDARY_NW_QUAD_XY 751910.077 4042885.611 *
SECONDARY_NE_QUAD_XY 757509.449 4043051.056 *
SECONDARY_SE_QUAD_XY 757716.465 4036115.936 *
SECONDARY_SW_QUAD_XY 752112.583 4035950.601 *
RMSE_XY 1.063 *
IMAGE_SOURCE "BLACK AND WHITE FILM" *
SOURCE_IMAGE_ID "NAPP 6919 195" *
SOURCE_IMAGE_DATE 1994 05 11 *
SOURCE_DEM_DATE 1971 01 01 *
AGENCY "WESTERN MAPPING CENTER (WMC)" *
PRODUCER "ANALYTICAL SURVEYS INC." *
PRODUCTION_SYSTEM "ORBIT OR_RECTIFY V.5.2" *
STANDARD_VERSION 1996 12 *
METADATA_DATE 1998 11 07 *
DATA_FILE_SIZE 50626140 *
BYTE_COUNT 6540 * * * * * * * * * * * * * * * * * * * * * * * * * * * * * * * * * * * * * * *
END_USGS_HEADER *
