BEGIN_USGS_DOQ_HEADER *
QUADRANGLE_NAME "TRES PICOS FARMS" *
QUADRANT NE *
NORTH_LATITUDE 36 30 00.000 *
WEST_LONGITUDE -120 18 45.000 *
SOUTH_LATITUDE 36 26 15.000 *
EAST_LONGITUDE -120 15 00.000 *
PRODUCTION_DATE 1998 10 19 *
RASTER_ORDER LEFT_RIGHT/TOP_BOTTOM *
BAND_ORGANIZATION "SINGLE FILE" *
BAND_CONTENT BLACK&WHITE *
BITS_PER_PIXEL 8 *
SAMPLES_AND_LINES 6510 7740 *
HORIZONTAL_DATUM NAD83 *
HORIZONTAL_COORDINATE_SYSTEM UTM *
COORDINATE_ZONE 10 *
HORIZONTAL_UNITS METERS *
HORIZONTAL_RESOLUTION 1.000 *
SECONDARY_HORIZONTAL_DATUM NAD27 *
XY_ORIGIN 740310.000 4043250.000 *
SECONDARY_XY_ORIGIN 740404.219 4043056.110 *
NATION US *
STATE CA *
NW_QUAD_CORNER_XY 740705.805 4042767.424 *
NE_QUAD_CORNER_XY 746304.867 4042925.577 *
SE_QUAD_CORNER_XY 746502.867 4035990.507 *
SW_QUAD_CORNER_XY 740899.295 4035832.460 *
SECONDARY_NW_QUAD_XY 740711.598 4042565.652 *
SECONDARY_NE_QUAD_XY 746310.794 4042723.809 *
SECONDARY_SE_QUAD_XY 746508.789 4035788.908 *
SECONDARY_SW_QUAD_XY 740905.083 4035630.857 *
RMSE_XY 1.177 *
IMAGE_SOURCE "BLACK AND WHITE FILM" *
SOURCE_IMAGE_ID "NAPP 6915 88" *
SOURCE_IMAGE_DATE 1994 04 21 *
SOURCE_DEM_DATE 1971 01 01 *
AGENCY "WESTERN MAPPING CENTER (WMC)" *
PRODUCER "ANALYTICAL SURVEYS INC." *
PRODUCTION_SYSTEM "ORBIT OR_RECTIFY V.5.2" *
STANDARD_VERSION 1996 12 *
METADATA_DATE 1998 10 21 *
DATA_FILE_SIZE 50393910 *
BYTE_COUNT 6510 * * * * * * * * * * * * * * * * * * * * * * * * * * * * * * * * * * * * * * *
END_USGS_HEADER *
