BEGIN_USGS_DOQ_HEADER *
QUADRANGLE_NAME "HERNANDEZ RESERVOIR" *
QUADRANT SE *
NORTH_LATITUDE 36 26 15.000 *
WEST_LONGITUDE -120 48 45.000 *
SOUTH_LATITUDE 36 22 30.000 *
EAST_LONGITUDE -120 45 00.000 *
PRODUCTION_DATE 1998 10 20 *
RASTER_ORDER LEFT_RIGHT/TOP_BOTTOM *
BAND_ORGANIZATION "SINGLE FILE" *
BAND_CONTENT BLACK&WHITE *
BITS_PER_PIXEL 8 *
SAMPLES_AND_LINES 6480 7710 *
HORIZONTAL_DATUM NAD83 *
HORIZONTAL_COORDINATE_SYSTEM UTM *
COORDINATE_ZONE 10 *
HORIZONTAL_UNITS METERS *
HORIZONTAL_RESOLUTION 1.000 *
SECONDARY_HORIZONTAL_DATUM NAD27 *
XY_ORIGIN 695670.000 4035150.000 *
SECONDARY_XY_ORIGIN 695765.321 4034954.979 *
NATION US *
STATE CA *
NW_QUAD_CORNER_XY 696073.617 4034699.111 *
NE_QUAD_CORNER_XY 701676.564 4034828.045 *
SE_QUAD_CORNER_XY 701838.264 4027893.817 *
SW_QUAD_CORNER_XY 696230.819 4027764.970 *
SECONDARY_NW_QUAD_XY 696078.327 4034497.481 *
SECONDARY_NE_QUAD_XY 701681.409 4034626.419 *
SECONDARY_SE_QUAD_XY 701843.104 4027692.360 *
SECONDARY_SW_QUAD_XY 696235.525 4027563.510 *
RMSE_XY 2.323 *
IMAGE_SOURCE "BLACK AND WHITE FILM" *
SOURCE_IMAGE_ID "NAPP 6917 77" *
SOURCE_IMAGE_DATE 1994 05 10 *
SOURCE_IMAGE_ID "NAPP 6917 75" *
SOURCE_IMAGE_DATE 1994 05 10 *
SOURCE_IMAGE_ID "NAPP 6917 79" *
SOURCE_IMAGE_DATE 1994 05 10 *
SOURCE_IMAGE_ID "NAPP 6917 70" *
SOURCE_IMAGE_DATE 1994 05 10 *
SOURCE_IMAGE_ID "NAPP 6917 72" *
SOURCE_IMAGE_DATE 1994 05 10 *
SOURCE_DEM_DATE 1998 01 01 *
AGENCY "WESTERN MAPPING CENTER (WMC)" *
PRODUCER "ANALYTICAL SURVEYS INC." *
PRODUCTION_SYSTEM "ORBIT OR_RECTIFY V.5.2" *
STANDARD_VERSION 1996 12 *
METADATA_DATE 1998 10 22 *
DATA_FILE_SIZE 49967280 *
BYTE_COUNT 6480 * * * * * * * * * * * * * * * * * * * * * * * * * * * * * *
END_USGS_HEADER *
