FILENAME: 36120E21
QUADRANGLE_NAME: SAN JOAQUIN
QUADRANT: NW
WEST_LONGITUDE: -120 15 0.00000
EAST_LONGITUDE: -120 11 15.00000
NORTH_LATITUDE: 36 37 30.00000
SOUTH_LATITUDE: 36 33 45.00000
PRODUCTION_DATE: 2002 01 29
RASTER_ORDER: LEFT_RIGHT/TOP_BOTTOM
BAND_ORGANIZATION: SINGLE FILE
BAND_CONTENT: BLACK&WHITE
BAND_CONTENT: UNDEFINED
BAND_CONTENT: UNDEFINED
BITS_PER_PIXEL: 8
SAMPLES_AND_LINES: 6510 7710
HORIZONTAL_DATUM: NAD83
HORIZONTAL_COORDINATE_SYSTEM: UTM
COORDINATE_ZONE: 10
HORIZONTAL_UNITS: METERS
HORIZONTAL_RESOLUTION: 1.00000
SECONDARY_HORIZONTAL_DATUM: NAD27
XY_ORIGIN: 745500.00000 4057260.00000
SECONDARY_XY_ORIGIN: 745594.48400 4057065.94300
NATION: US
STATE: CA
NW_QUAD_CORNER_XY: 745907.98700 4056795.88700
NE_QUAD_CORNER_XY: 751498.09400 4056957.89800
SE_QUAD_CORNERY_XY: 751701.20500 4050022.60900
SW_QUAD_CORNER_XY: 746106.57300 4049860.70400
SECONDARY_NW_QUAD_XY: 745913.92300 4056593.78200
SECONDARY_NE_QUAD_XY: 751504.16600 4056755.79800
SECONDARY_SE_QUAD_XY: 751707.27200 4049820.67600
SECONDARY_SW_QUAD_XY: 746112.50600 4049658.76700
RMSE_XY: 0.80000
IMAGE_SOURCE: BLACK AND WHITE FILM
SOURCE_IMAGE_ID: NAPP 10545 34
SOURCE_IMAGE_DATE: 1998 08 15
SOURCE_DEM_DATE: 1963 00 00
AGENCY: WESTERN MAPPING CENTER (WMC)
PRODUCER: SANBORN COLORADO, L.L.C.
PRODUCTION_SYSTEM: ORBIT OR_RECTIFY V.5.2
COMPRESSION: UNDEFINED
STANDARD_VERSION: 1996 12
METADATA_DATE: 2002 01 30
DATA_FILE_SIZE: 50198610
BYTE_COUNT: 6510
