FILENAME: 36120E31
QUADRANGLE_NAME: CANTUA CREEK
QUADRANT: NW
WEST_LONGITUDE: -120 22 30.00000
EAST_LONGITUDE: -120 18 45.00000
NORTH_LATITUDE: 36 37 30.00000
SOUTH_LATITUDE: 36 33 45.00000
PRODUCTION_DATE: 2002 01 29
RASTER_ORDER: LEFT_RIGHT/TOP_BOTTOM
BAND_ORGANIZATION: SINGLE FILE
BAND_CONTENT: BLACK&WHITE
BAND_CONTENT: UNDEFINED
BAND_CONTENT: UNDEFINED
BITS_PER_PIXEL: 8
SAMPLES_AND_LINES: 6510 7740
HORIZONTAL_DATUM: NAD83
HORIZONTAL_COORDINATE_SYSTEM: UTM
COORDINATE_ZONE: 10
HORIZONTAL_UNITS: METERS
HORIZONTAL_RESOLUTION: 1.00000
SECONDARY_HORIZONTAL_DATUM: NAD27
XY_ORIGIN: 734310.00000 4056960.00000
SECONDARY_XY_ORIGIN: 734404.66500 4056765.82100
NATION: US
STATE: CA
NW_QUAD_CORNER_XY: 734728.02500 4056482.80800
NE_QUAD_CORNER_XY: 740317.96400 4056637.52300
SE_QUAD_CORNERY_XY: 740512.02800 4049702.44500
SW_QUAD_CORNER_XY: 734917.56600 4049547.83200
SECONDARY_NW_QUAD_XY: 734733.69100 4056280.69700
SECONDARY_NE_QUAD_XY: 740323.76600 4056435.41500
SECONDARY_SE_QUAD_XY: 740517.82500 4049500.50500
SECONDARY_SW_QUAD_XY: 734923.22800 4049345.88800
RMSE_XY: 0.60000
IMAGE_SOURCE: BLACK AND WHITE FILM
SOURCE_IMAGE_ID: NAPP 10548 123
SOURCE_IMAGE_DATE: 1998 08 18
SOURCE_DEM_DATE: 1990 00 00
AGENCY: WESTERN MAPPING CENTER (WMC)
PRODUCER: SANBORN COLORADO, L.L.C.
PRODUCTION_SYSTEM: ORBIT OR_RECTIFY V.5.2
COMPRESSION: UNDEFINED
STANDARD_VERSION: 1996 12
METADATA_DATE: 2002 01 30
DATA_FILE_SIZE: 50393910
BYTE_COUNT: 6510
