FILENAME: 36120F33
QUADRANGLE_NAME: TRANQUILLITY
QUADRANT: SE
WEST_LONGITUDE: -120 18 45.00000
EAST_LONGITUDE: -120 15 0.00000
NORTH_LATITUDE: 36 41 15.00000
SOUTH_LATITUDE: 36 37 30.00000
PRODUCTION_DATE: 2002 01 28
RASTER_ORDER: LEFT_RIGHT/TOP_BOTTOM
BAND_ORGANIZATION: SINGLE FILE
BAND_CONTENT: BLACK&WHITE
BAND_CONTENT: UNDEFINED
BAND_CONTENT: UNDEFINED
BITS_PER_PIXEL: 8
SAMPLES_AND_LINES: 6510 7740
HORIZONTAL_DATUM: NAD83
HORIZONTAL_COORDINATE_SYSTEM: UTM
COORDINATE_ZONE: 10
HORIZONTAL_UNITS: METERS
HORIZONTAL_RESOLUTION: 1.00000
SECONDARY_HORIZONTAL_DATUM: NAD27
XY_ORIGIN: 739710.00000 4064040.00000
SECONDARY_XY_ORIGIN: 739804.75800 4063845.76800
NATION: US
STATE: CA
NW_QUAD_CORNER_XY: 740123.61400 4063572.65800
NE_QUAD_CORNER_XY: 745709.10600 4063731.12500
SE_QUAD_CORNERY_XY: 745907.98700 4056795.88700
SW_QUAD_CORNER_XY: 740317.96400 4056637.52300
SECONDARY_NW_QUAD_XY: 740129.42000 4063370.38400
SECONDARY_NE_QUAD_XY: 745715.04800 4063528.85400
SECONDARY_SE_QUAD_XY: 745913.92300 4056593.78200
SECONDARY_SW_QUAD_XY: 740323.76600 4056435.41500
RMSE_XY: 0.92000
IMAGE_SOURCE: BLACK AND WHITE FILM
SOURCE_IMAGE_ID: NAPP 10548 51
SOURCE_IMAGE_DATE: 1998 08 18
SOURCE_DEM_DATE: 1993 00 00
AGENCY: WESTERN MAPPING CENTER (WMC)
PRODUCER: SANBORN COLORADO, L.L.C.
PRODUCTION_SYSTEM: ORBIT OR_RECTIFY V.5.2
COMPRESSION: UNDEFINED
STANDARD_VERSION: 1996 12
METADATA_DATE: 2002 01 28
DATA_FILE_SIZE: 50393910
BYTE_COUNT: 6510
