FILENAME: 36120F73
QUADRANGLE_NAME: MERCEY HOT SPRINGS
QUADRANT: SE
WEST_LONGITUDE: -120 48 45.00000
EAST_LONGITUDE: -120 45 0.00000
NORTH_LATITUDE: 36 41 15.00000
SOUTH_LATITUDE: 36 37 30.00000
PRODUCTION_DATE: 2002 01 09
RASTER_ORDER: LEFT_RIGHT/TOP_BOTTOM
BAND_ORGANIZATION: SINGLE FILE
BAND_CONTENT: BLACK&WHITE
BAND_CONTENT: UNDEFINED
BAND_CONTENT: UNDEFINED
BITS_PER_PIXEL: 8
SAMPLES_AND_LINES: 6480 7680
HORIZONTAL_DATUM: NAD83
HORIZONTAL_COORDINATE_SYSTEM: UTM
COORDINATE_ZONE: 10
HORIZONTAL_UNITS: METERS
HORIZONTAL_RESOLUTION: 1.00000
SECONDARY_HORIZONTAL_DATUM: NAD27
XY_ORIGIN: 695040.00000 4062870.00000
SECONDARY_XY_ORIGIN: 695135.33500 4062675.08200
NATION: US
STATE: CA
NW_QUAD_CORNER_XY: 695442.47500 4062436.29900
NE_QUAD_CORNER_XY: 701027.36200 4062565.57500
SE_QUAD_CORNERY_XY: 701190.02300 4055631.10000
SW_QUAD_CORNER_XY: 695600.61100 4055501.90800
SECONDARY_NW_QUAD_XY: 695447.20000 4062233.99600
SECONDARY_NE_QUAD_XY: 701032.22300 4062363.27600
SECONDARY_SE_QUAD_XY: 701194.87900 4055428.96800
SECONDARY_SW_QUAD_XY: 695605.33200 4055299.77300
RMSE_XY: 2.88000
IMAGE_SOURCE: BLACK AND WHITE FILM
SOURCE_IMAGE_ID: NAPP 10520 76
SOURCE_IMAGE_DATE: 1998 08 16
SOURCE_IMAGE_ID: NAPP 10546 75
SOURCE_IMAGE_DATE: 1998 08 15
SOURCE_IMAGE_ID: NAPP 10523 20
SOURCE_IMAGE_DATE: 1998 08 18
SOURCE_DEM_DATE: 1967 00 00
AGENCY: WESTERN MAPPING CENTER (WMC)
PRODUCER: SANBORN COLORADO, L.L.C.
PRODUCTION_SYSTEM: ORBIT OR_RECTIFY V.5.2
COMPRESSION: UNDEFINED
STANDARD_VERSION: 1996 12
METADATA_DATE: 2002 01 16
DATA_FILE_SIZE: 49772880
BYTE_COUNT: 6480
