FILENAME: 36120F74
QUADRANGLE_NAME: MERCEY HOT SPRINGS
QUADRANT: SW
WEST_LONGITUDE: -120 52 30.00000
EAST_LONGITUDE: -120 48 45.00000
NORTH_LATITUDE: 36 41 15.00000
SOUTH_LATITUDE: 36 37 30.00000
PRODUCTION_DATE: 2002 01 09
RASTER_ORDER: LEFT_RIGHT/TOP_BOTTOM
BAND_ORGANIZATION: SINGLE FILE
BAND_CONTENT: BLACK&WHITE
BAND_CONTENT: UNDEFINED
BAND_CONTENT: UNDEFINED
BITS_PER_PIXEL: 8
SAMPLES_AND_LINES: 6450 7710
HORIZONTAL_DATUM: NAD83
HORIZONTAL_COORDINATE_SYSTEM: UTM
COORDINATE_ZONE: 10
HORIZONTAL_UNITS: METERS
HORIZONTAL_RESOLUTION: 1.00000
SECONDARY_HORIZONTAL_DATUM: NAD27
XY_ORIGIN: 689460.00000 4062750.00000
SECONDARY_XY_ORIGIN: 689555.38100 4062554.98100
NATION: US
STATE: CA
NW_QUAD_CORNER_XY: 689857.65400 4062310.66800
NE_QUAD_CORNER_XY: 695442.47500 4062436.29900
SE_QUAD_CORNERY_XY: 695600.61100 4055501.90800
SW_QUAD_CORNER_XY: 690011.26600 4055376.36000
SECONDARY_NW_QUAD_XY: 689862.24500 4062108.36300
SECONDARY_NE_QUAD_XY: 695447.20000 4062233.99600
SECONDARY_SE_QUAD_XY: 695605.33200 4055299.77300
SECONDARY_SW_QUAD_XY: 690015.85200 4055174.22200
RMSE_XY: 1.63000
IMAGE_SOURCE: BLACK AND WHITE FILM
SOURCE_IMAGE_ID: NAPP 10523 20
SOURCE_IMAGE_DATE: 1998 08 18
SOURCE_DEM_DATE: 1967 00 00
AGENCY: WESTERN MAPPING CENTER (WMC)
PRODUCER: SANBORN COLORADO, L.L.C.
PRODUCTION_SYSTEM: ORBIT OR_RECTIFY V.5.2
COMPRESSION: UNDEFINED
STANDARD_VERSION: 1996 12
METADATA_DATE: 2002 01 16
DATA_FILE_SIZE: 49735950
BYTE_COUNT: 6450
