FILENAME: 36120G22
QUADRANGLE_NAME: GRAVELLY FORD
QUADRANT: NE
WEST_LONGITUDE: -120 11 15.00000
EAST_LONGITUDE: -120 7 30.00000
NORTH_LATITUDE: 36 52 30.00000
SOUTH_LATITUDE: 36 48 45.00000
PRODUCTION_DATE: 2002 01 25
RASTER_ORDER: LEFT_RIGHT/TOP_BOTTOM
BAND_ORGANIZATION: SINGLE FILE
BAND_CONTENT: BLACK&WHITE
BAND_CONTENT: UNDEFINED
BAND_CONTENT: UNDEFINED
BITS_PER_PIXEL: 8
SAMPLES_AND_LINES: 6510 7740
HORIZONTAL_DATUM: NAD83
HORIZONTAL_COORDINATE_SYSTEM: UTM
COORDINATE_ZONE: 10
HORIZONTAL_UNITS: METERS
HORIZONTAL_RESOLUTION: 1.00000
SECONDARY_HORIZONTAL_DATUM: NAD27
XY_ORIGIN: 750270.00000 4085190.00000
SECONDARY_XY_ORIGIN: 750364.96100 4084995.71000
NATION: US
STATE: CA
NW_QUAD_CORNER_XY: 750682.65500 4084699.61100
NE_QUAD_CORNER_XY: 756254.68500 4084865.70100
SE_QUAD_CORNERY_XY: 756463.54500 4077930.08400
SW_QUAD_CORNER_XY: 750886.96300 4077764.09900
SECONDARY_NW_QUAD_XY: 750688.74600 4084496.84800
SECONDARY_NE_QUAD_XY: 756260.91200 4084662.94300
SECONDARY_SE_QUAD_XY: 756469.76700 4077727.49000
SECONDARY_SW_QUAD_XY: 750893.05000 4077561.50100
RMSE_XY: 0.83000
IMAGE_SOURCE: BLACK AND WHITE FILM
SOURCE_IMAGE_ID: NAPP 10545 49
SOURCE_IMAGE_DATE: 1998 08 15
SOURCE_DEM_DATE: 1963 00 00
AGENCY: WESTERN MAPPING CENTER (WMC)
PRODUCER: SANBORN COLORADO, L.L.C.
PRODUCTION_SYSTEM: ORBIT OR_RECTIFY V.5.2
COMPRESSION: UNDEFINED
STANDARD_VERSION: 1996 12
METADATA_DATE: 2002 01 28
DATA_FILE_SIZE: 50393910
BYTE_COUNT: 6510
