FILENAME: 36120G33
QUADRANGLE_NAME: MENDOTA DAM
QUADRANT: SE
WEST_LONGITUDE: -120 18 45.00000
EAST_LONGITUDE: -120 15 0.00000
NORTH_LATITUDE: 36 48 45.00000
SOUTH_LATITUDE: 36 45 0.00000
PRODUCTION_DATE: 2002 01 25
RASTER_ORDER: LEFT_RIGHT/TOP_BOTTOM
BAND_ORGANIZATION: SINGLE FILE
BAND_CONTENT: BLACK&WHITE
BAND_CONTENT: UNDEFINED
BAND_CONTENT: UNDEFINED
BITS_PER_PIXEL: 8
SAMPLES_AND_LINES: 6510 7740
HORIZONTAL_DATUM: NAD83
HORIZONTAL_COORDINATE_SYSTEM: UTM
COORDINATE_ZONE: 10
HORIZONTAL_UNITS: METERS
HORIZONTAL_RESOLUTION: 1.00000
SECONDARY_HORIZONTAL_DATUM: NAD27
XY_ORIGIN: 739320.00000 4077930.00000
SECONDARY_XY_ORIGIN: 739415.00800 4077735.59200
NATION: US
STATE: CA
NW_QUAD_CORNER_XY: 739734.05400 4077443.09900
NE_QUAD_CORNER_XY: 745310.46700 4077601.77100
SE_QUAD_CORNERY_XY: 745509.93300 4070666.42000
SW_QUAD_CORNER_XY: 739928.97700 4070507.85000
SECONDARY_NW_QUAD_XY: 739739.86900 4077240.49300
SECONDARY_NE_QUAD_XY: 745316.41800 4077399.16900
SECONDARY_SE_QUAD_XY: 745515.88000 4070463.98300
SECONDARY_SW_QUAD_XY: 739934.78800 4070305.40900
RMSE_XY: 0.72000
IMAGE_SOURCE: BLACK AND WHITE FILM
SOURCE_IMAGE_ID: NAPP 10548 55
SOURCE_IMAGE_DATE: 1998 08 18
SOURCE_DEM_DATE: 1993 00 00
AGENCY: WESTERN MAPPING CENTER (WMC)
PRODUCER: SANBORN COLORADO, L.L.C.
PRODUCTION_SYSTEM: ORBIT OR_RECTIFY V.5.2
COMPRESSION: UNDEFINED
STANDARD_VERSION: 1996 12
METADATA_DATE: 2002 01 28
DATA_FILE_SIZE: 50393910
BYTE_COUNT: 6510
