FILENAME: 36120G41
QUADRANGLE_NAME: FIREBAUGH
QUADRANT: NW
WEST_LONGITUDE: -120 30 0.00000
EAST_LONGITUDE: -120 26 15.00000
NORTH_LATITUDE: 36 52 30.00000
SOUTH_LATITUDE: 36 48 45.00000
PRODUCTION_DATE: 2002 01 25
RASTER_ORDER: LEFT_RIGHT/TOP_BOTTOM
BAND_ORGANIZATION: SINGLE FILE
BAND_CONTENT: BLACK&WHITE
BAND_CONTENT: UNDEFINED
BAND_CONTENT: UNDEFINED
BITS_PER_PIXEL: 8
SAMPLES_AND_LINES: 6480 7710
HORIZONTAL_DATUM: NAD83
HORIZONTAL_COORDINATE_SYSTEM: UTM
COORDINATE_ZONE: 10
HORIZONTAL_UNITS: METERS
HORIZONTAL_RESOLUTION: 1.00000
SECONDARY_HORIZONTAL_DATUM: NAD27
XY_ORIGIN: 722430.00000 4084380.00000
SECONDARY_XY_ORIGIN: 722525.23400 4084185.27100
NATION: US
STATE: CA
NW_QUAD_CORNER_XY: 722823.72800 4083924.02700
NE_QUAD_CORNER_XY: 728395.35600 4084071.83000
SE_QUAD_CORNERY_XY: 728581.46800 4077136.72000
SW_QUAD_CORNER_XY: 723005.29200 4076989.01200
SECONDARY_NW_QUAD_XY: 722829.14200 4083721.24500
SECONDARY_NE_QUAD_XY: 728400.90600 4083869.05200
SECONDARY_SE_QUAD_XY: 728587.01300 4076934.10600
SECONDARY_SW_QUAD_XY: 723010.70100 4076786.39400
RMSE_XY: 0.63000
IMAGE_SOURCE: BLACK AND WHITE FILM
SOURCE_IMAGE_ID: NAPP 10545 102
SOURCE_IMAGE_DATE: 1998 08 15
SOURCE_DEM_DATE: 1993 00 00
AGENCY: WESTERN MAPPING CENTER (WMC)
PRODUCER: SANBORN COLORADO, L.L.C.
PRODUCTION_SYSTEM: ORBIT OR_RECTIFY V.5.2
COMPRESSION: UNDEFINED
STANDARD_VERSION: 1996 12
METADATA_DATE: 2002 01 28
DATA_FILE_SIZE: 49967280
BYTE_COUNT: 6480
