FILENAME: 36120G82
QUADRANGLE_NAME: ORTIGALITA PEAK
QUADRANT: NE
WEST_LONGITUDE: -120 56 15.00000
EAST_LONGITUDE: -120 52 30.00000
NORTH_LATITUDE: 36 52 30.00000
SOUTH_LATITUDE: 36 48 45.00000
PRODUCTION_DATE: 2001 12 11
RASTER_ORDER: LEFT_RIGHT/TOP_BOTTOM
BAND_ORGANIZATION: SINGLE FILE
BAND_CONTENT: BLACK&WHITE
BAND_CONTENT: UNDEFINED
BAND_CONTENT: UNDEFINED
BITS_PER_PIXEL: 8
SAMPLES_AND_LINES: 6420 7680
HORIZONTAL_DATUM: NAD83
HORIZONTAL_COORDINATE_SYSTEM: UTM
COORDINATE_ZONE: 10
HORIZONTAL_UNITS: METERS
HORIZONTAL_RESOLUTION: 1.00000
SECONDARY_HORIZONTAL_DATUM: NAD27
XY_ORIGIN: 683430.00000 4083420.00000
SECONDARY_XY_ORIGIN: 683525.54800 4083224.92400
NATION: US
STATE: CA
NW_QUAD_CORNER_XY: 683824.31700 4082991.74900
NE_QUAD_CORNER_XY: 689395.46200 4083113.97000
SE_QUAD_CORNERY_XY: 689549.75200 4076179.47300
SW_QUAD_CORNER_XY: 683974.06400 4076057.33100
SECONDARY_NW_QUAD_XY: 683828.78300 4082788.94500
SECONDARY_NE_QUAD_XY: 689400.06300 4082911.16800
SECONDARY_SE_QUAD_XY: 689554.35000 4075976.83600
SECONDARY_SW_QUAD_XY: 683978.52600 4075854.69100
RMSE_XY: 1.99000
IMAGE_SOURCE: BLACK AND WHITE FILM
SOURCE_IMAGE_ID: NAPP 10520 93
SOURCE_IMAGE_DATE: 1998 08 16
SOURCE_IMAGE_ID: NAPP 10523 14
SOURCE_IMAGE_DATE: 1998 08 18
SOURCE_IMAGE_ID: NAPP 10520 95
SOURCE_IMAGE_DATE: 1998 08 16
SOURCE_IMAGE_ID: NAPP 10520 241
SOURCE_IMAGE_DATE: 1998 08 16
SOURCE_DEM_DATE: 1969 00 00
AGENCY: WESTERN MAPPING CENTER (WMC)
PRODUCER: SANBORN COLORADO, L.L.C.
PRODUCTION_SYSTEM: ORBIT OR_RECTIFY V.5.2
COMPRESSION: UNDEFINED
STANDARD_VERSION: 1996 12
METADATA_DATE: 2001 12 18
DATA_FILE_SIZE: 49312020
BYTE_COUNT: 6420
