FILENAME: 36120H12
QUADRANGLE_NAME: MADERA
QUADRANT: NE
WEST_LONGITUDE: -120 3 45.00000
EAST_LONGITUDE: -120 0 0.00000
NORTH_LATITUDE: 37 0 0.00000
SOUTH_LATITUDE: 36 56 15.00000
PRODUCTION_DATE: 2002 01 30
RASTER_ORDER: LEFT_RIGHT/TOP_BOTTOM
BAND_ORGANIZATION: SINGLE FILE
BAND_CONTENT: BLACK&WHITE
BAND_CONTENT: UNDEFINED
BAND_CONTENT: UNDEFINED
BITS_PER_PIXEL: 8
SAMPLES_AND_LINES: 6480 7770
HORIZONTAL_DATUM: NAD83
HORIZONTAL_COORDINATE_SYSTEM: UTM
COORDINATE_ZONE: 10
HORIZONTAL_UNITS: METERS
HORIZONTAL_RESOLUTION: 1.00000
SECONDARY_HORIZONTAL_DATUM: NAD27
XY_ORIGIN: 761010.00000 4099410.00000
SECONDARY_XY_ORIGIN: 761104.87500 4099215.52400
NATION: US
STATE: CA
NW_QUAD_CORNER_XY: 761399.04100 4098907.06500
NE_QUAD_CORNER_XY: 766962.12000 4099080.69300
SE_QUAD_CORNERY_XY: 767180.72200 4092144.75000
SW_QUAD_CORNER_XY: 761613.07700 4091971.23100
SECONDARY_NW_QUAD_XY: 761405.41400 4098703.98400
SECONDARY_NE_QUAD_XY: 766968.62800 4098877.61700
SECONDARY_SE_QUAD_XY: 767187.22500 4091941.83700
SECONDARY_SW_QUAD_XY: 761619.44400 4091768.31300
RMSE_XY: 0.72000
IMAGE_SOURCE: BLACK AND WHITE FILM
SOURCE_IMAGE_ID: NAPP 10560 133
SOURCE_IMAGE_DATE: 1998 09 12
SOURCE_DEM_DATE: 1981 00 00
AGENCY: WESTERN MAPPING CENTER (WMC)
PRODUCER: SANBORN COLORADO, L.L.C.
PRODUCTION_SYSTEM: ORBIT OR_RECTIFY V.5.2
COMPRESSION: UNDEFINED
STANDARD_VERSION: 1996 12
METADATA_DATE: 2002 02 04
DATA_FILE_SIZE: 50356080
BYTE_COUNT: 6480
