FILENAME: 36120H14
QUADRANGLE_NAME: MADERA
QUADRANT: SW
WEST_LONGITUDE: -120 7 30.00000
EAST_LONGITUDE: -120 3 45.00000
NORTH_LATITUDE: 36 56 15.00000
SOUTH_LATITUDE: 36 52 30.00000
PRODUCTION_DATE: 2002 01 30
RASTER_ORDER: LEFT_RIGHT/TOP_BOTTOM
BAND_ORGANIZATION: SINGLE FILE
BAND_CONTENT: BLACK&WHITE
BAND_CONTENT: UNDEFINED
BAND_CONTENT: UNDEFINED
BITS_PER_PIXEL: 8
SAMPLES_AND_LINES: 6510 7770
HORIZONTAL_DATUM: NAD83
HORIZONTAL_COORDINATE_SYSTEM: UTM
COORDINATE_ZONE: 10
HORIZONTAL_UNITS: METERS
HORIZONTAL_RESOLUTION: 1.00000
SECONDARY_HORIZONTAL_DATUM: NAD27
XY_ORIGIN: 755640.00000 4092300.00000
SECONDARY_XY_ORIGIN: 755734.93100 4092105.66000
NATION: US
STATE: CA
NW_QUAD_CORNER_XY: 756045.51900 4091801.37300
NE_QUAD_CORNER_XY: 761613.07700 4091971.23100
SE_QUAD_CORNERY_XY: 761826.80100 4085035.45100
SW_QUAD_CORNER_XY: 756254.68500 4084865.70100
SECONDARY_NW_QUAD_XY: 756051.75100 4091598.45100
SECONDARY_NE_QUAD_XY: 761619.44400 4091768.31300
SECONDARY_SE_QUAD_XY: 761833.16300 4084832.69700
SECONDARY_SW_QUAD_XY: 756260.91200 4084662.94300
RMSE_XY: 0.71000
IMAGE_SOURCE: BLACK AND WHITE FILM
SOURCE_IMAGE_ID: NAPP 10548 106
SOURCE_IMAGE_DATE: 1998 08 18
SOURCE_DEM_DATE: 1981 00 00
AGENCY: WESTERN MAPPING CENTER (WMC)
PRODUCER: SANBORN COLORADO, L.L.C.
PRODUCTION_SYSTEM: ORBIT OR_RECTIFY V.5.2
COMPRESSION: UNDEFINED
STANDARD_VERSION: 1996 12
METADATA_DATE: 2002 02 04
DATA_FILE_SIZE: 50589210
BYTE_COUNT: 6510
