FILENAME: 36120H54
QUADRANGLE_NAME: OXALIS
QUADRANT: SW
WEST_LONGITUDE: -120 37 30.00000
EAST_LONGITUDE: -120 33 45.00000
NORTH_LATITUDE: 36 56 15.00000
SOUTH_LATITUDE: 36 52 30.00000
PRODUCTION_DATE: 2002 01 14
RASTER_ORDER: LEFT_RIGHT/TOP_BOTTOM
BAND_ORGANIZATION: SINGLE FILE
BAND_CONTENT: BLACK&WHITE
BAND_CONTENT: UNDEFINED
BAND_CONTENT: UNDEFINED
BITS_PER_PIXEL: 8
SAMPLES_AND_LINES: 6480 7710
HORIZONTAL_DATUM: NAD83
HORIZONTAL_COORDINATE_SYSTEM: UTM
COORDINATE_ZONE: 10
HORIZONTAL_UNITS: METERS
HORIZONTAL_RESOLUTION: 1.00000
SECONDARY_HORIZONTAL_DATUM: NAD27
XY_ORIGIN: 711090.00000 4091040.00000
SECONDARY_XY_ORIGIN: 711185.44000 4090845.08500
NATION: US
STATE: CA
NW_QUAD_CORNER_XY: 711507.97000 4090574.28300
NE_QUAD_CORNER_XY: 717074.89800 4090714.86300
SE_QUAD_CORNERY_XY: 717252.17400 4083779.88000
SW_QUAD_CORNER_XY: 711680.69300 4083639.38900
SECONDARY_NW_QUAD_XY: 711513.11700 4090371.33000
SECONDARY_NE_QUAD_XY: 717080.18100 4090511.91400
SECONDARY_SE_QUAD_XY: 717257.45200 4083577.09500
SECONDARY_SW_QUAD_XY: 711685.83600 4083436.60000
RMSE_XY: 1.21000
IMAGE_SOURCE: BLACK AND WHITE FILM
SOURCE_IMAGE_ID: NAPP 10561 46
SOURCE_IMAGE_DATE: 1998 09 16
SOURCE_DEM_DATE: 1993 00 00
AGENCY: WESTERN MAPPING CENTER (WMC)
PRODUCER: SANBORN COLORADO, L.L.C.
PRODUCTION_SYSTEM: ORBIT OR_RECTIFY V.5.2
COMPRESSION: UNDEFINED
STANDARD_VERSION: 1996 12
METADATA_DATE: 2002 01 15
DATA_FILE_SIZE: 49967280
BYTE_COUNT: 6480
