FILENAME: 36120H81
QUADRANGLE_NAME: ORTIGALITA PEAK NW
QUADRANT: NW
WEST_LONGITUDE: -121 0 0.00000
EAST_LONGITUDE: -120 56 15.00000
NORTH_LATITUDE: 37 0 0.00000
SOUTH_LATITUDE: 36 56 15.00000
PRODUCTION_DATE: 2001 12 07
RASTER_ORDER: LEFT_RIGHT/TOP_BOTTOM
BAND_ORGANIZATION: SINGLE FILE
BAND_CONTENT: BLACK&WHITE
BAND_CONTENT: UNDEFINED
BAND_CONTENT: UNDEFINED
BITS_PER_PIXEL: 8
SAMPLES_AND_LINES: 6450 7710
HORIZONTAL_DATUM: NAD83
HORIZONTAL_COORDINATE_SYSTEM: UTM
COORDINATE_ZONE: 10
HORIZONTAL_UNITS: METERS
HORIZONTAL_RESOLUTION: 1.00000
SECONDARY_HORIZONTAL_DATUM: NAD27
XY_ORIGIN: 677550.00000 4097190.00000
SECONDARY_XY_ORIGIN: 677645.77000 4096994.83200
NATION: US
STATE: CA
NW_QUAD_CORNER_XY: 677962.19000 4096742.05900
NE_QUAD_CORNER_XY: 683524.16600 4096860.77700
SE_QUAD_CORNERY_XY: 683674.35100 4089926.23100
SW_QUAD_CORNER_XY: 678107.81900 4089807.58800
SECONDARY_NW_QUAD_XY: 677966.52700 4096538.92500
SECONDARY_NE_QUAD_XY: 683528.63900 4096657.64600
SECONDARY_SE_QUAD_XY: 683678.82100 4089723.26300
SECONDARY_SW_QUAD_XY: 678112.15200 4089604.61700
RMSE_XY: 1.49000
IMAGE_SOURCE: BLACK AND WHITE FILM
SOURCE_IMAGE_ID: NAPP 10520 237
SOURCE_IMAGE_DATE: 1998 08 16
SOURCE_IMAGE_ID: NAPP 10521 16
SOURCE_IMAGE_DATE: 1998 08 16
SOURCE_IMAGE_ID: NAPP 10538 69
SOURCE_IMAGE_DATE: 1998 09 12
SOURCE_DEM_DATE: 1984 00 00
AGENCY: WESTERN MAPPING CENTER (WMC)
PRODUCER: SANBORN COLORADO, L.L.C.
PRODUCTION_SYSTEM: ORBIT OR_RECTIFY V.5.2
COMPRESSION: UNDEFINED
STANDARD_VERSION: 1996 12
METADATA_DATE: 2001 12 11
DATA_FILE_SIZE: 49735950
BYTE_COUNT: 6450
