BEGIN_USGS_DOQ_HEADER *
QUADRANGLE_NAME "SAN BENITO" 3.45 or 7.5-min. name*
QUADRANT NW quadrant indicator if cell size = 3.75-minutes*
WEST_LONGITUDE -121 7 30.000 signed deg min sec SDDD MM SS.SSS*
EAST_LONGITUDE -121 3 45.000 signed deg min sec SDDD MM SS.SSS*
NORTH_LATITUDE 36 37 30.000 signed deg min sec SDDD MM SS.SSS*
SOUTH_LATITUDE 36 33 45.000 signed deg min sec SDDD MM SS.SSS*
PRODUCTION_DATE 1997 11 17 yyyy mm dd*
RASTER_ORDER LEFT_RIGHT/TOP_BOTTOM video display order*
BAND_ORGANIZATION BIP single file or BSQ, or BIL or BIP*
BAND_CONTENT RED black&white or red green blue*
BAND_CONTENT GREEN black&white or red green blue*
BAND_CONTENT BLUE black&white or red green blue*
BITS_PER_PIXEL 8 radiometric resolution*
SAMPLES_AND_LINES 6432 7662 number of columns and rows*
HORIZONTAL_DATUM NAD83 primary horizontal datum*
HORIZONTAL_COORDINATE_SYSTEM UTM *
COORDINATE_ZONE 10 coordinate system zone number*
HORIZONTAL_UNITS METERS coordinate system units*
HORIZONTAL_RESOLUTION 1.00 pixel horiz. ground sample distance*
SECONDARY_HORIZONTAL_DATUM NAD27 secondary horizontal datum*
XY_ORIGIN 667257.500 4055326.500 coord. of upper left pixel pri. datum*
SECONDARY_XY_ORIGIN 667353.582 4055130.655 coord upper left pixel sec datum*
NATION US nation code*
STATE CA state fip code*
NW_QUAD_CORNER_XY 667654.525 4054910.603 XY coords. of pri. NW quad corner*
NE_QUAD_CORNER_XY 673243.618 4055021.578 XY coords. of pri. NE quad corner*
SE_QUAD_CORNER_XY 673383.454 4048087.568 XY coords. of pri. SE quad corner*
SW_QUAD_CORNER_XY 667789.844 4047976.666 XY coords. of pri. SW quad corner*
SECONDARY_NW_QUAD_XY 667658.571 4054708.453 XY coords. - sec. NW quad cor.*
SECONDARY_NE_QUAD_XY 673247.800 4054819.431 XY coords. - sec. NE quad cor.*
SECONDARY_SE_QUAD_XY 673387.632 4047885.588 XY coords. - sec. SE quad cor.*
SECONDARY_SW_QUAD_XY 667793.888 4047774.684 XY coords. - sec. SW quad cor.*
RMSE_XY 3.60 doq horiz. accuracy*
IMAGE_SOURCE "COLOR INFRA-RED FILM" b&w, cir, natural color, other*
SOURCE_IMAGE_ID "NAPP 509 031" source image id*
SOURCE_IMAGE_DATE 1987 6 20 source image date as yyyy mm dd*
IMAGE_SOURCE "COLOR INFRA-RED FILM" b&w, cir, natural color, other*
SOURCE_IMAGE_ID "NAPP 509 030" source image id*
SOURCE_IMAGE_DATE 1987 6 20 source image date as yyyy mm dd*
IMAGE_SOURCE "COLOR INFRA-RED FILM" b&w, cir, natural color, other*
SOURCE_IMAGE_ID "NAPP 509 032" source image id*
SOURCE_IMAGE_DATE 1987 6 20 source image date as yyyy mm dd*
SOURCE_DEM_DATE 1997 11 17 source dem date yyyy mm dd*
AGENCY "WESTERN MAPPING CENTER (WMC)" oversight agency*
PRODUCER "WOOLPERT LLP" *
PRODUCTION_SYSTEM "INTERGRAPH ISPM,ISIR" production system*
STANDARD_VERSION 1996 12 version of DOQ standard*
METADATA_DATE 1998 5 14 date created or changed, yyyy mm dd*
DATA_FILE_SIZE 147865248 data set size in bytes*
BYTE_COUNT 19296 header byte count* * * * * * * * * * * * * * * * * * * * * * * * * * * * * * * * * * * * * * * * * * * * * * * * * * * * * * * * * * * * * * * * * * * * * * * * * * * * * * * * * * * * * * * * * * * * * * * * * * * * * * * * * * * * * * * * * * * * * * * * * * * * * * * * * * * * * * * * * * * * * * * * * * * * * * * * * * * * * * * * * * * * * * * * * * * * * * * * * * * * * * * * * * * * * * *
END_USGS_HEADER *
