BEGIN_USGS_DOQ_HEADER *
QUADRANGLE_NAME "MOUNT HARLAN" 3.45 or 7.5-min. name*
QUADRANT NW quadrant indicator if cell size = 3.75-minutes*
WEST_LONGITUDE -121 30 0.000 signed deg min sec SDDD MM SS.SSS*
EAST_LONGITUDE -121 26 15.000 signed deg min sec SDDD MM SS.SSS*
NORTH_LATITUDE 36 45 0.000 signed deg min sec SDDD MM SS.SSS*
SOUTH_LATITUDE 36 41 15.000 signed deg min sec SDDD MM SS.SSS*
PRODUCTION_DATE 1997 10 6 yyyy mm dd*
RASTER_ORDER LEFT_RIGHT/TOP_BOTTOM video display order*
BAND_ORGANIZATION BIP single file or BSQ, or BIL or BIP*
BAND_CONTENT RED black&white or red green blue*
BAND_CONTENT GREEN black&white or red green blue*
BAND_CONTENT BLUE black&white or red green blue*
BITS_PER_PIXEL 8 radiometric resolution*
SAMPLES_AND_LINES 6397 7640 number of columns and rows*
HORIZONTAL_DATUM NAD83 primary horizontal datum*
HORIZONTAL_COORDINATE_SYSTEM UTM *
COORDINATE_ZONE 10 coordinate system zone number*
HORIZONTAL_UNITS METERS coordinate system units*
HORIZONTAL_RESOLUTION 1.00 pixel horiz. ground sample distance*
SECONDARY_HORIZONTAL_DATUM NAD27 secondary horizontal datum*
XY_ORIGIN 633505.500 4068582.500 coord. of upper left pixel pri. datum*
SECONDARY_XY_ORIGIN 633602.657 4068385.933 coord upper left pixel sec datum*
NATION US nation code*
STATE CA state fip code*
NW_QUAD_CORNER_XY 633904.162 4068188.525 XY coords. of pri. NW quad corner*
NE_QUAD_CORNER_XY 639483.891 4068277.768 XY coords. of pri. NE quad corner*
SE_QUAD_CORNER_XY 639596.973 4061344.027 XY coords. of pri. SE quad corner*
SW_QUAD_CORNER_XY 634012.718 4061254.842 XY coords. of pri. SW quad corner*
SECONDARY_NW_QUAD_XY 633907.404 4067986.028 XY coords. - sec. NW quad cor.*
SECONDARY_NE_QUAD_XY 639487.268 4068075.273 XY coords. - sec. NE quad cor.*
SECONDARY_SE_QUAD_XY 639600.347 4061141.698 XY coords. - sec. SE quad cor.*
SECONDARY_SW_QUAD_XY 634015.957 4061052.511 XY coords. - sec. SW quad cor.*
RMSE_XY 2.00 doq horiz. accuracy*
IMAGE_SOURCE "COLOR INFRA-RED FILM" b&w, cir, natural color, other*
SOURCE_IMAGE_ID "NAPP 512 081" source image id*
SOURCE_IMAGE_DATE 1987 6 23 source image date as yyyy mm dd*
IMAGE_SOURCE "COLOR INFRA-RED FILM" b&w, cir, natural color, other*
SOURCE_IMAGE_ID "NAPP 512 080" source image id*
SOURCE_IMAGE_DATE 1987 6 23 source image date as yyyy mm dd*
IMAGE_SOURCE "COLOR INFRA-RED FILM" b&w, cir, natural color, other*
SOURCE_IMAGE_ID "NAPP 512 082" source image id*
SOURCE_IMAGE_DATE 1987 6 23 source image date as yyyy mm dd*
SOURCE_DEM_DATE 1997 10 6 source dem date yyyy mm dd*
AGENCY "WESTERN MAPPING CENTER (WMC)" oversight agency*
PRODUCER "WOOLPERT LLP" *
PRODUCTION_SYSTEM "INTERGRAPH ISPM,ISIR" production system*
STANDARD_VERSION 1996 12 version of DOQ standard*
METADATA_DATE 1998 5 15 date created or changed, yyyy mm dd*
DATA_FILE_SIZE 146638431 data set size in bytes*
BYTE_COUNT 19191 header byte count* * * * * * * * * * * * * * * * * * * * * * * * * * * * * * * * * * * * * * * * * * * * * * * * * * * * * * * * * * * * * * * * * * * * * * * * * * * * * * * * * * * * * * * * * * * * * * * * * * * * * * * * * * * * * * * * * * * * * * * * * * * * * * * * * * * * * * * * * * * * * * * * * * * * * * * * * * * * * * * * * * * * * * * * * * * * * * * * * * * * * * * * * * * * *
END_USGS_HEADER *
