BEGIN_USGS_DOQ_HEADER *
QUADRANGLE_NAME "ESPINOSA CANYON" *
QUADRANT NE *
NORTH_LATITUDE 36 07 30.000 *
WEST_LONGITUDE -121 03 45.000 *
SOUTH_LATITUDE 36 03 45.000 *
EAST_LONGITUDE -121 00 00.000 *
PRODUCTION_DATE 1998 10 13 *
RASTER_ORDER LEFT_RIGHT/TOP_BOTTOM *
BAND_ORGANIZATION "SINGLE FILE" *
BAND_CONTENT BLACK&WHITE *
BITS_PER_PIXEL 8 *
SAMPLES_AND_LINES 6480 7680 *
HORIZONTAL_DATUM NAD83 *
HORIZONTAL_COORDINATE_SYSTEM UTM *
COORDINATE_ZONE 10 *
HORIZONTAL_UNITS METERS *
HORIZONTAL_RESOLUTION 1.000 *
SECONDARY_HORIZONTAL_DATUM NAD27 *
XY_ORIGIN 673950.000 3999990.000 *
SECONDARY_XY_ORIGIN 674046.366 3999794.815 *
NATION US *
STATE CA *
NW_QUAD_CORNER_XY 674356.501 3999551.299 *
NE_QUAD_CORNER_XY 679981.595 3999665.295 *
SE_QUAD_CORNER_XY 680124.234 3992731.720 *
SW_QUAD_CORNER_XY 674494.677 3992617.804 *
SECONDARY_NW_QUAD_XY 674360.655 3999350.517 *
SECONDARY_NE_QUAD_XY 679985.884 3999464.516 *
SECONDARY_SE_QUAD_XY 680128.519 3992531.114 *
SECONDARY_SW_QUAD_XY 674498.828 3992417.196 *
RMSE_XY 0.881 *
IMAGE_SOURCE "BLACK AND WHITE FILM" *
SOURCE_IMAGE_ID "NAPP 6917 183" *
SOURCE_IMAGE_DATE 1994 05 10 *
SOURCE_DEM_DATE 1976 01 01 *
AGENCY "WESTERN MAPPING CENTER (WMC)" *
PRODUCER "ANALYTICAL SURVEYS INC." *
PRODUCTION_SYSTEM "ORBIT OR_RECTIFY V.5.2" *
STANDARD_VERSION 1996 12 *
METADATA_DATE 1998 10 16 *
DATA_FILE_SIZE 49772880 *
BYTE_COUNT 6480 * * * * * * * * * * * * * * * * * * * * * * * * * * * * * * * * * * * * * *
END_USGS_HEADER *
