BEGIN_USGS_DOQ_HEADER *
QUADRANGLE_NAME "COSIO KNOB" *
QUADRANT NW *
NORTH_LATITUDE 36 07 30.000 *
WEST_LONGITUDE -121 15 00.000 *
SOUTH_LATITUDE 36 03 45.000 *
EAST_LONGITUDE -121 11 15.000 *
PRODUCTION_DATE 1998 10 13 *
RASTER_ORDER LEFT_RIGHT/TOP_BOTTOM *
BAND_ORGANIZATION "SINGLE FILE" *
BAND_CONTENT BLACK&WHITE *
BITS_PER_PIXEL 8 *
SAMPLES_AND_LINES 6480 7680 *
HORIZONTAL_DATUM NAD83 *
HORIZONTAL_COORDINATE_SYSTEM UTM *
COORDINATE_ZONE 10 *
HORIZONTAL_UNITS METERS *
HORIZONTAL_RESOLUTION 1.000 *
SECONDARY_HORIZONTAL_DATUM NAD27 *
XY_ORIGIN 657060.000 3999660.000 *
SECONDARY_XY_ORIGIN 657156.955 3999464.529 *
NATION US *
STATE CA *
NW_QUAD_CORNER_XY 657481.591 3999231.047 *
NE_QUAD_CORNER_XY 663106.500 3999334.175 *
SE_QUAD_CORNER_XY 663235.753 3992400.833 *
SW_QUAD_CORNER_XY 657606.382 3992297.777 *
SECONDARY_NW_QUAD_XY 657485.343 3999030.257 *
SECONDARY_NE_QUAD_XY 663110.387 3999133.388 *
SECONDARY_SE_QUAD_XY 663239.636 3992200.219 *
SECONDARY_SW_QUAD_XY 657610.131 3992097.161 *
RMSE_XY 2.936 *
IMAGE_SOURCE "BLACK AND WHITE FILM" *
SOURCE_IMAGE_ID "NAPP 6917 269" *
SOURCE_IMAGE_DATE 1994 05 10 *
SOURCE_IMAGE_ID "NAPP 6917 267" *
SOURCE_IMAGE_DATE 1994 05 10 *
SOURCE_IMAGE_ID "NAPP 6917 243" *
SOURCE_IMAGE_DATE 1994 05 10 *
SOURCE_DEM_DATE 1981 01 01 *
AGENCY "WESTERN MAPPING CENTER (WMC)" *
PRODUCER "ANALYTICAL SURVEYS INC." *
PRODUCTION_SYSTEM "ORBIT OR_RECTIFY V.5.2" *
STANDARD_VERSION 1996 12 *
METADATA_DATE 1998 10 16 *
DATA_FILE_SIZE 49772880 *
BYTE_COUNT 6480 * * * * * * * * * * * * * * * * * * * * * * * * * * * * * * * * * *
END_USGS_HEADER *
