BEGIN_USGS_DOQ_HEADER *
QUADRANGLE_NAME "COSIO KNOB" *
QUADRANT SW *
NORTH_LATITUDE 36 03 45.000 *
WEST_LONGITUDE -121 15 00.000 *
SOUTH_LATITUDE 36 00 00.000 *
EAST_LONGITUDE -121 11 15.000 *
PRODUCTION_DATE 1998 10 13 *
RASTER_ORDER LEFT_RIGHT/TOP_BOTTOM *
BAND_ORGANIZATION "SINGLE FILE" *
BAND_CONTENT BLACK&WHITE *
BITS_PER_PIXEL 8 *
SAMPLES_AND_LINES 6480 7680 *
HORIZONTAL_DATUM NAD83 *
HORIZONTAL_COORDINATE_SYSTEM UTM *
COORDINATE_ZONE 10 *
HORIZONTAL_UNITS METERS *
HORIZONTAL_RESOLUTION 1.000 *
SECONDARY_HORIZONTAL_DATUM NAD27 *
XY_ORIGIN 657210.000 3992730.000 *
SECONDARY_XY_ORIGIN 657307.043 3992534.694 *
NATION US *
STATE CA *
NW_QUAD_CORNER_XY 657606.382 3992297.777 *
NE_QUAD_CORNER_XY 663235.753 3992400.833 *
SE_QUAD_CORNER_XY 663364.811 3985467.555 *
SW_QUAD_CORNER_XY 657730.986 3985364.572 *
SECONDARY_NW_QUAD_XY 657610.131 3992097.161 *
SECONDARY_NE_QUAD_XY 663239.636 3992200.219 *
SECONDARY_SE_QUAD_XY 663368.691 3985267.117 *
SECONDARY_SW_QUAD_XY 657734.732 3985164.131 *
RMSE_XY 1.903 *
IMAGE_SOURCE "BLACK AND WHITE FILM" *
SOURCE_IMAGE_ID "NAPP 6917 267" *
SOURCE_IMAGE_DATE 1994 05 10 *
SOURCE_DEM_DATE 1981 01 01 *
AGENCY "WESTERN MAPPING CENTER (WMC)" *
PRODUCER "ANALYTICAL SURVEYS INC." *
PRODUCTION_SYSTEM "ORBIT OR_RECTIFY V.5.2" *
STANDARD_VERSION 1996 12 *
METADATA_DATE 1998 10 16 *
DATA_FILE_SIZE 49772880 *
BYTE_COUNT 6480 * * * * * * * * * * * * * * * * * * * * * * * * * * * * * * * * * * * * * *
END_USGS_HEADER *
