BEGIN_USGS_DOQ_HEADER *
QUADRANGLE_NAME "LOPEZ POINT" 3.45 or 7.5-min. name*
QUADRANT SW quadrant indicator if cell size = 3.75-minutes*
WEST_LONGITUDE -121 37 30.000 signed deg min sec SDDD MM SS.SSS*
EAST_LONGITUDE -121 33 45.000 signed deg min sec SDDD MM SS.SSS*
NORTH_LATITUDE 36 3 45.000 signed deg min sec SDDD MM SS.SSS*
SOUTH_LATITUDE 36 0 0.000 signed deg min sec SDDD MM SS.SSS*
PRODUCTION_DATE 1995 12 15 yyyy mm dd*
RASTER_ORDER LEFT_RIGHT/TOP_BOTTOM video display order*
BAND_ORGANIZATION "SINGLE FILE" single file or BSQ, or BIL or BIP*
BAND_CONTENT BLACK&WHITE black&white or red green blue*
BITS_PER_PIXEL 8 radiometric resolution*
SAMPLES_AND_LINES 6428 7623 number of columns and rows*
HORIZONTAL_DATUM NAD83 primary horizontal datum*
HORIZONTAL_COORDINATE_SYSTEM UTM *
COORDINATE_ZONE 10 coordinate system zone number*
HORIZONTAL_UNITS METERS coordinate system units*
HORIZONTAL_RESOLUTION 1.00 pixel horiz. ground sample distance*
SECONDARY_HORIZONTAL_DATUM NAD27 secondary horizontal datum*
XY_ORIGIN 623435.000 3992138.000 coord. of upper left pixel pri. datum*
SECONDARY_XY_ORIGIN 623533.028 3991942.874 coord upper left pixel sec datum*
NATION US nation code*
STATE CA state fip code*
NW_QUAD_CORNER_XY 623831.300 3991755.430 XY coords. of pri. NW quad corner*
NE_QUAD_CORNER_XY 629460.360 3991836.780 XY coords. of pri. NE quad corner*
SE_QUAD_CORNER_XY 629562.700 3984903.900 XY coords. of pri. SE quad corner*
SW_QUAD_CORNER_XY 623929.190 3984822.610 XY coords. of pri. SW quad corner*
SECONDARY_NW_QUAD_XY 623834.250 3991554.800 XY coords. - sec. NW quad cor.*
SECONDARY_NE_QUAD_XY 629463.440 3991636.150 XY coords. - sec. NE quad cor.*
SECONDARY_SE_QUAD_XY 629565.770 3984703.450 XY coords. - sec. SE quad cor.*
SECONDARY_SW_QUAD_XY 623932.130 3984622.160 XY coords. - sec. SW quad cor.*
RMSE_XY 1.30 doq horiz. accuracy*
IMAGE_SOURCE "BLACK AND WHITE FILM" b&w, cir, natural color, other*
SOURCE_IMAGE_ID "NAPP 6920 68" source image id*
SOURCE_IMAGE_DATE 1994 5 13 source image date as yyyy mm dd*
SOURCE_DEM_DATE 1995 12 15 source dem date yyyy mm dd*
AGENCY "WESTERN MAPPING CENTER (WMC)" oversight agency*
PRODUCER "USFS" producer/contractor*
PRODUCTION_SYSTEM "DV2.6.1 6/95OV2.4 5/95" production system*
STANDARD_VERSION 1996 12 version of DOQ standard*
METADATA_DATE 1997 6 13 date created or changed, yyyy mm dd*
DATA_FILE_SIZE 49007072 data set size in bytes*
BYTE_COUNT 6428 header byte count* * * * * * * * * * * * * * * * * * * * * * * * * * * * * * * * * * * * * *
END_USGS_HEADER *
