BEGIN_USGS_DOQ_HEADER *
QUADRANGLE_NAME "RELIZ CANYON" 3.45 or 7.5-min. name*
QUADRANT SW quadrant indicator if cell size = 3.75-minutes*
WEST_LONGITUDE -121 22 30.000 signed deg min sec SDDD MM SS.SSS*
EAST_LONGITUDE -121 18 45.000 signed deg min sec SDDD MM SS.SSS*
NORTH_LATITUDE 36 11 15.000 signed deg min sec SDDD MM SS.SSS*
SOUTH_LATITUDE 36 7 30.000 signed deg min sec SDDD MM SS.SSS*
PRODUCTION_DATE 1996 1 16 yyyy mm dd*
RASTER_ORDER LEFT_RIGHT/TOP_BOTTOM video display order*
BAND_ORGANIZATION "SINGLE FILE" single file or BSQ, or BIL or BIP*
BAND_CONTENT BLACK&WHITE black&white or red green blue*
BITS_PER_PIXEL 8 radiometric resolution*
SAMPLES_AND_LINES 6436 7638 number of columns and rows*
HORIZONTAL_DATUM NAD83 primary horizontal datum*
HORIZONTAL_COORDINATE_SYSTEM UTM *
COORDINATE_ZONE 10 coordinate system zone number*
HORIZONTAL_UNITS METERS coordinate system units*
HORIZONTAL_RESOLUTION 1.00 pixel horiz. ground sample distance*
SECONDARY_HORIZONTAL_DATUM NAD27 secondary horizontal datum*
XY_ORIGIN 645721.000 4006366.000 coord. of upper left pixel pri. datum*
SECONDARY_XY_ORIGIN 645818.137 4006170.587 coord upper left pixel sec datum*
NATION US nation code*
STATE CA state fip code*
NW_QUAD_CORNER_XY 646115.900 4005968.850 XY coords. of pri. NW quad corner*
NE_QUAD_CORNER_XY 651736.230 4006064.810 XY coords. of pri. NE quad corner*
SE_QUAD_CORNER_XY 651856.740 3999131.540 XY coords. of pri. SE quad corner*
SW_QUAD_CORNER_XY 646231.940 3999035.660 XY coords. of pri. SW quad corner*
SECONDARY_NW_QUAD_XY 646119.380 4005767.890 XY coords. - sec. NW quad cor.*
SECONDARY_NE_QUAD_XY 651739.850 4005863.840 XY coords. - sec. NE quad cor.*
SECONDARY_SE_QUAD_XY 651860.360 3998930.750 XY coords. - sec. SE quad cor.*
SECONDARY_SW_QUAD_XY 646235.430 3998834.860 XY coords. - sec. SW quad cor.*
RMSE_XY 5.80 doq horiz. accuracy*
IMAGE_SOURCE "BLACK AND WHITE FILM" b&w, cir, natural color, other*
SOURCE_IMAGE_ID "NAPP 6920 144" source image id*
SOURCE_IMAGE_DATE 1994 5 13 source image date as yyyy mm dd*
SOURCE_DEM_DATE 1996 1 16 source dem date yyyy mm dd*
AGENCY "WESTERN MAPPING CENTER (WMC)" oversight agency*
PRODUCER "USFS" producer/contractor*
PRODUCTION_SYSTEM "DV2.6.1 6/95OV2.4 5/95" production system*
STANDARD_VERSION 1996 12 version of DOQ standard*
METADATA_DATE 1997 6 13 date created or changed, yyyy mm dd*
DATA_FILE_SIZE 49164604 data set size in bytes*
BYTE_COUNT 6436 header byte count* * * * * * * * * * * * * * * * * * * * * * * * * * * * * * * * * * * * * *
END_USGS_HEADER *
