BEGIN_USGS_DOQ_HEADER *
QUADRANGLE_NAME "PARTINGTON RIDGE" 3.45 or 7.5-min. name*
QUADRANT SW quadrant indicator if cell size = 3.75-minutes*
WEST_LONGITUDE -121 45 0.000 signed deg min sec SDDD MM SS.SSS*
EAST_LONGITUDE -121 41 15.000 signed deg min sec SDDD MM SS.SSS*
NORTH_LATITUDE 36 11 15.000 signed deg min sec SDDD MM SS.SSS*
SOUTH_LATITUDE 36 7 30.000 signed deg min sec SDDD MM SS.SSS*
PRODUCTION_DATE 1995 12 4 yyyy mm dd*
RASTER_ORDER LEFT_RIGHT/TOP_BOTTOM video display order*
BAND_ORGANIZATION "SINGLE FILE" single file or BSQ, or BIL or BIP*
BAND_CONTENT BLACK&WHITE black&white or red green blue*
BITS_PER_PIXEL 8 radiometric resolution*
SAMPLES_AND_LINES 6412 7615 number of columns and rows*
HORIZONTAL_DATUM NAD83 primary horizontal datum*
HORIZONTAL_COORDINATE_SYSTEM UTM *
COORDINATE_ZONE 10 coordinate system zone number*
HORIZONTAL_UNITS METERS coordinate system units*
HORIZONTAL_RESOLUTION 1.00 pixel horiz. ground sample distance*
SECONDARY_HORIZONTAL_DATUM NAD27 secondary horizontal datum*
XY_ORIGIN 611998.000 4005844.000 coord. of upper left pixel pri. datum*
SECONDARY_XY_ORIGIN 612096.327 4005648.309 coord upper left pixel sec datum*
NATION US nation code*
STATE CA state fip code*
NW_QUAD_CORNER_XY 612394.960 4005469.230 XY coords. of pri. NW quad corner*
NE_QUAD_CORNER_XY 618015.010 4005543.440 XY coords. of pri. NE quad corner*
SE_QUAD_CORNER_XY 618108.720 3998610.540 XY coords. of pri. SE quad corner*
SW_QUAD_CORNER_XY 612484.220 3998536.380 XY coords. of pri. SW quad corner*
SECONDARY_NW_QUAD_XY 612397.650 4005268.250 XY coords. - sec. NW quad cor.*
SECONDARY_NE_QUAD_XY 618017.820 4005342.460 XY coords. - sec. NE quad cor.*
SECONDARY_SE_QUAD_XY 618111.540 3998409.730 XY coords. - sec. SE quad cor.*
SECONDARY_SW_QUAD_XY 612486.900 3998335.570 XY coords. - sec. SW quad cor.*
RMSE_XY 1.80 doq horiz. accuracy*
IMAGE_SOURCE "BLACK AND WHITE FILM" b&w, cir, natural color, other*
SOURCE_IMAGE_ID "NAPP 6920 37" source image id*
SOURCE_IMAGE_DATE 1994 5 13 source image date as yyyy mm dd*
SOURCE_DEM_DATE 1995 12 4 source dem date yyyy mm dd*
AGENCY "WESTERN MAPPING CENTER (WMC)" oversight agency*
PRODUCER "USFS" producer/contractor*
PRODUCTION_SYSTEM "DV2.6.1 6/95OV2.4 5/95" production system*
STANDARD_VERSION 1996 12 version of DOQ standard*
METADATA_DATE 1997 6 13 date created or changed, yyyy mm dd*
DATA_FILE_SIZE 48833792 data set size in bytes*
BYTE_COUNT 6412 header byte count* * * * * * * * * * * * * * * * * * * * * * * * * * * * * * * * * * * * * *
END_USGS_HEADER *
