BEGIN_USGS_DOQ_HEADER *
QUADRANGLE_NAME "PINALITO CANYON" *
QUADRANT NW *
NORTH_LATITUDE 36 22 30.000 *
WEST_LONGITUDE -121 07 30.000 *
SOUTH_LATITUDE 36 18 45.000 *
EAST_LONGITUDE -121 03 45.000 *
PRODUCTION_DATE 1998 10 13 *
RASTER_ORDER LEFT_RIGHT/TOP_BOTTOM *
BAND_ORGANIZATION "SINGLE FILE" *
BAND_CONTENT BLACK&WHITE *
BITS_PER_PIXEL 8 *
SAMPLES_AND_LINES 6450 7680 *
HORIZONTAL_DATUM NAD83 *
HORIZONTAL_COORDINATE_SYSTEM UTM *
COORDINATE_ZONE 10 *
HORIZONTAL_UNITS METERS *
HORIZONTAL_RESOLUTION 1.000 *
SECONDARY_HORIZONTAL_DATUM NAD27 *
XY_ORIGIN 667800.000 4027590.000 *
SECONDARY_XY_ORIGIN 667896.294 4027394.186 *
NATION US *
STATE CA *
NW_QUAD_CORNER_XY 668194.602 4027175.245 *
NE_QUAD_CORNER_XY 673801.718 4027285.923 *
SE_QUAD_CORNER_XY 673940.725 4020352.171 *
SW_QUAD_CORNER_XY 668329.120 4020241.568 *
SECONDARY_NW_QUAD_XY 668198.636 4026973.771 *
SECONDARY_NE_QUAD_XY 673805.886 4027084.452 *
SECONDARY_SE_QUAD_XY 673944.889 4020150.871 *
SECONDARY_SW_QUAD_XY 668333.150 4020040.265 *
RMSE_XY 2.261 *
IMAGE_SOURCE "BLACK AND WHITE FILM" *
SOURCE_IMAGE_ID "NAPP 6917 224" *
SOURCE_IMAGE_DATE 1994 05 10 *
SOURCE_DEM_DATE 1984 01 01 *
AGENCY "WESTERN MAPPING CENTER (WMC)" *
PRODUCER "ANALYTICAL SURVEYS INC." *
PRODUCTION_SYSTEM "ORBIT OR_RECTIFY V.5.2" *
STANDARD_VERSION 1996 12 *
METADATA_DATE 1998 10 16 *
DATA_FILE_SIZE 49542450 *
BYTE_COUNT 6450 * * * * * * * * * * * * * * * * * * * * * * * * * * * * * * * * * * * * * *
END_USGS_HEADER *
