BEGIN_USGS_DOQ_HEADER *
QUADRANGLE_NAME "GREENFIELD" *
QUADRANT NW *
NORTH_LATITUDE 36 22 30.000 *
WEST_LONGITUDE -121 15 00.000 *
SOUTH_LATITUDE 36 18 45.000 *
EAST_LONGITUDE -121 11 15.000 *
PRODUCTION_DATE 1998 10 16 *
RASTER_ORDER LEFT_RIGHT/TOP_BOTTOM *
BAND_ORGANIZATION "SINGLE FILE" *
BAND_CONTENT BLACK&WHITE *
BITS_PER_PIXEL 8 *
SAMPLES_AND_LINES 6450 7680 *
HORIZONTAL_DATUM NAD83 *
HORIZONTAL_COORDINATE_SYSTEM UTM *
COORDINATE_ZONE 10 *
HORIZONTAL_UNITS METERS *
HORIZONTAL_RESOLUTION 1.000 *
SECONDARY_HORIZONTAL_DATUM NAD27 *
XY_ORIGIN 656580.000 4027380.000 *
SECONDARY_XY_ORIGIN 656676.720 4027183.939 *
NATION US *
STATE CA *
NW_QUAD_CORNER_XY 656980.548 4026964.786 *
NE_QUAD_CORNER_XY 662587.546 4027068.199 *
SE_QUAD_CORNER_XY 662717.576 4020134.595 *
SW_QUAD_CORNER_XY 657106.090 4020031.252 *
SECONDARY_NW_QUAD_XY 656984.313 4026763.307 *
SECONDARY_NE_QUAD_XY 662591.445 4026866.723 *
SECONDARY_SE_QUAD_XY 662721.472 4019933.290 *
SECONDARY_SW_QUAD_XY 657109.851 4019829.944 *
RMSE_XY 1.222 *
IMAGE_SOURCE "BLACK AND WHITE FILM" *
SOURCE_IMAGE_ID "NAPP 6917 277" *
SOURCE_IMAGE_DATE 1994 05 10 *
SOURCE_IMAGE_ID "NAPP 6917 235" *
SOURCE_IMAGE_DATE 1994 05 10 *
SOURCE_IMAGE_ID "NAPP 6917 279" *
SOURCE_IMAGE_DATE 1994 05 10 *
SOURCE_DEM_DATE 1984 01 01 *
AGENCY "WESTERN MAPPING CENTER (WMC)" *
PRODUCER "ANALYTICAL SURVEYS INC." *
PRODUCTION_SYSTEM "ORBIT OR_RECTIFY V.5.2" *
STANDARD_VERSION 1996 12 *
METADATA_DATE 1998 10 24 *
DATA_FILE_SIZE 49542450 *
BYTE_COUNT 6450 * * * * * * * * * * * * * * * * * * * * * * * * * * * * * * * * * *
END_USGS_HEADER *
