BEGIN_USGS_DOQ_HEADER *
QUADRANGLE_NAME "SOLEDAD" *
QUADRANT NW *
NORTH_LATITUDE 36 30 00.000 *
WEST_LONGITUDE -121 22 30.000 *
SOUTH_LATITUDE 36 26 15.000 *
EAST_LONGITUDE -121 18 45.000 *
PRODUCTION_DATE 1998 10 12 *
RASTER_ORDER LEFT_RIGHT/TOP_BOTTOM *
BAND_ORGANIZATION "SINGLE FILE" *
BAND_CONTENT BLACK&WHITE *
BITS_PER_PIXEL 8 *
SAMPLES_AND_LINES 6450 7680 *
HORIZONTAL_DATUM NAD83 *
HORIZONTAL_COORDINATE_SYSTEM UTM *
COORDINATE_ZONE 10 *
HORIZONTAL_UNITS METERS *
HORIZONTAL_RESOLUTION 1.000 *
SECONDARY_HORIZONTAL_DATUM NAD27 *
XY_ORIGIN 645120.000 4041060.000 *
SECONDARY_XY_ORIGIN 645216.939 4040863.754 *
NATION US *
STATE CA *
NW_QUAD_CORNER_XY 645533.062 4040635.853 *
NE_QUAD_CORNER_XY 651130.956 4040732.134 *
SE_QUAD_CORNER_XY 651252.371 4033798.535 *
SW_QUAD_CORNER_XY 645649.977 4033702.320 *
SECONDARY_NW_QUAD_XY 645536.563 4040434.030 *
SECONDARY_NE_QUAD_XY 651134.592 4040530.313 *
SECONDARY_SE_QUAD_XY 651256.004 4033596.884 *
SECONDARY_SW_QUAD_XY 645653.475 4033500.666 *
RMSE_XY 1.685 *
IMAGE_SOURCE "BLACK AND WHITE FILM" *
SOURCE_IMAGE_ID "NAPP 6920 134" *
SOURCE_IMAGE_DATE 1994 05 13 *
SOURCE_IMAGE_ID "NAPP 6920 188" *
SOURCE_IMAGE_DATE 1994 05 13 *
SOURCE_DEM_DATE 1984 01 01 *
AGENCY "WESTERN MAPPING CENTER (WMC)" *
PRODUCER "ANALYTICAL SURVEYS INC." *
PRODUCTION_SYSTEM "ORBIT OR_RECTIFY V.5.2" *
STANDARD_VERSION 1996 12 *
METADATA_DATE 1998 10 16 *
DATA_FILE_SIZE 49542450 *
BYTE_COUNT 6450 * * * * * * * * * * * * * * * * * * * * * * * * * * * * * * * * * * * *
END_USGS_HEADER *
