BEGIN_USGS_DOQ_HEADER *
QUADRANGLE_NAME "SOLEDAD" *
QUADRANT SE *
NORTH_LATITUDE 36 26 15.000 *
WEST_LONGITUDE -121 18 45.000 *
SOUTH_LATITUDE 36 22 30.000 *
EAST_LONGITUDE -121 15 00.000 *
PRODUCTION_DATE 1998 10 12 *
RASTER_ORDER LEFT_RIGHT/TOP_BOTTOM *
BAND_ORGANIZATION "SINGLE FILE" *
BAND_CONTENT BLACK&WHITE *
BITS_PER_PIXEL 8 *
SAMPLES_AND_LINES 6450 7680 *
HORIZONTAL_DATUM NAD83 *
HORIZONTAL_COORDINATE_SYSTEM UTM *
COORDINATE_ZONE 10 *
HORIZONTAL_UNITS METERS *
HORIZONTAL_RESOLUTION 1.000 *
SECONDARY_HORIZONTAL_DATUM NAD27 *
XY_ORIGIN 650850.000 4034220.000 *
SECONDARY_XY_ORIGIN 650946.828 4034023.869 *
NATION US *
STATE CA *
NW_QUAD_CORNER_XY 651252.371 4033798.535 *
NE_QUAD_CORNER_XY 656854.819 4033898.385 *
SE_QUAD_CORNER_XY 656980.548 4026964.786 *
SW_QUAD_CORNER_XY 651373.606 4026865.004 *
SECONDARY_NW_QUAD_XY 651256.004 4033596.884 *
SECONDARY_NE_QUAD_XY 656858.587 4033696.736 *
SECONDARY_SE_QUAD_XY 656984.313 4026763.307 *
SECONDARY_SW_QUAD_XY 651377.236 4026663.522 *
RMSE_XY 1.197 *
IMAGE_SOURCE "BLACK AND WHITE FILM" *
SOURCE_IMAGE_ID "NAPP 6920 186" *
SOURCE_IMAGE_DATE 1994 05 13 *
SOURCE_DEM_DATE 1984 01 01 *
AGENCY "WESTERN MAPPING CENTER (WMC)" *
PRODUCER "ANALYTICAL SURVEYS INC." *
PRODUCTION_SYSTEM "ORBIT OR_RECTIFY V.5.2" *
STANDARD_VERSION 1996 12 *
METADATA_DATE 1998 10 16 *
DATA_FILE_SIZE 49542450 *
BYTE_COUNT 6450 * * * * * * * * * * * * * * * * * * * * * * * * * * * * * * * * * * * * * *
END_USGS_HEADER *
