BEGIN_USGS_DOQ_HEADER *
QUADRANGLE_NAME "PALO ESCRITO PEAK" *
QUADRANT SW *
NORTH_LATITUDE 36 26 15.000 *
WEST_LONGITUDE -121 30 00.000 *
SOUTH_LATITUDE 36 22 30.000 *
EAST_LONGITUDE -121 26 15.000 *
PRODUCTION_DATE 1998 10 13 *
RASTER_ORDER LEFT_RIGHT/TOP_BOTTOM *
BAND_ORGANIZATION "SINGLE FILE" *
BAND_CONTENT BLACK&WHITE *
BITS_PER_PIXEL 8 *
SAMPLES_AND_LINES 6420 7650 *
HORIZONTAL_DATUM NAD83 *
HORIZONTAL_COORDINATE_SYSTEM UTM *
COORDINATE_ZONE 10 *
HORIZONTAL_UNITS METERS *
HORIZONTAL_RESOLUTION 1.000 *
SECONDARY_HORIZONTAL_DATUM NAD27 *
XY_ORIGIN 634050.000 4033920.000 *
SECONDARY_XY_ORIGIN 634147.248 4033724.014 *
NATION US *
STATE CA *
NW_QUAD_CORNER_XY 634445.340 4033520.789 *
NE_QUAD_CORNER_XY 640047.634 4033609.738 *
SE_QUAD_CORNER_XY 640159.881 4026676.334 *
SW_QUAD_CORNER_XY 634553.095 4026587.445 *
SECONDARY_NW_QUAD_XY 634448.569 4033319.131 *
SECONDARY_NE_QUAD_XY 640050.997 4033408.082 *
SECONDARY_SE_QUAD_XY 640163.242 4026474.848 *
SECONDARY_SW_QUAD_XY 634556.321 4026385.957 *
RMSE_XY 1.318 *
IMAGE_SOURCE "BLACK AND WHITE FILM" *
SOURCE_IMAGE_ID "NAPP 6920 90" *
SOURCE_IMAGE_DATE 1994 05 13 *
SOURCE_IMAGE_ID "NAPP 6920 88" *
SOURCE_IMAGE_DATE 1994 05 13 *
SOURCE_DEM_DATE 1956 01 01 *
AGENCY "WESTERN MAPPING CENTER (WMC)" *
PRODUCER "ANALYTICAL SURVEYS INC." *
PRODUCTION_SYSTEM "ORBIT OR_RECTIFY V.5.2" *
STANDARD_VERSION 1996 12 *
METADATA_DATE 1998 10 16 *
DATA_FILE_SIZE 49119420 *
BYTE_COUNT 6420 * * * * * * * * * * * * * * * * * * * * * * * * * * * * * * * * * * * *
END_USGS_HEADER *
