BEGIN_USGS_DOQ_HEADER *
QUADRANGLE_NAME "CARMEL VALLEY" 3.45 or 7.5-min. name*
QUADRANT SE quadrant indicator if cell size = 3.75-minutes*
WEST_LONGITUDE -121 41 15.000 signed deg min sec SDDD MM SS.SSS*
EAST_LONGITUDE -121 37 30.000 signed deg min sec SDDD MM SS.SSS*
NORTH_LATITUDE 36 26 15.000 signed deg min sec SDDD MM SS.SSS*
SOUTH_LATITUDE 36 22 30.000 signed deg min sec SDDD MM SS.SSS*
PRODUCTION_DATE 1995 12 11 yyyy mm dd*
RASTER_ORDER LEFT_RIGHT/TOP_BOTTOM video display order*
BAND_ORGANIZATION "SINGLE FILE" single file or BSQ, or BIL or BIP*
BAND_CONTENT BLACK&WHITE black&white or red green blue*
BITS_PER_PIXEL 8 radiometric resolution*
SAMPLES_AND_LINES 6396 7620 number of columns and rows*
HORIZONTAL_DATUM NAD83 primary horizontal datum*
HORIZONTAL_COORDINATE_SYSTEM UTM *
COORDINATE_ZONE 10 coordinate system zone number*
HORIZONTAL_UNITS METERS coordinate system units*
HORIZONTAL_RESOLUTION 1.00 pixel horiz. ground sample distance*
SECONDARY_HORIZONTAL_DATUM NAD27 secondary horizontal datum*
XY_ORIGIN 617243.000 4033655.000 coord. of upper left pixel pri. datum*
SECONDARY_XY_ORIGIN 617340.563 4033458.840 coord upper left pixel sec datum*
NATION US nation code*
STATE CA state fip code*
NW_QUAD_CORNER_XY 617638.740 4033275.740 XY coords. of pri. NW quad corner*
NE_QUAD_CORNER_XY 623240.890 4033353.790 XY coords. of pri. NE quad corner*
SE_QUAD_CORNER_XY 623339.660 4026420.560 XY coords. of pri. SE quad corner*
SW_QUAD_CORNER_XY 617733.010 4026342.560 XY coords. of pri. SW quad corner*
SECONDARY_NW_QUAD_XY 617641.560 4033074.070 XY coords. - sec. NW quad cor.*
SECONDARY_NE_QUAD_XY 623243.850 4033152.130 XY coords. - sec. NE quad cor.*
SECONDARY_SE_QUAD_XY 623342.620 4026219.070 XY coords. - sec. SE quad cor.*
SECONDARY_SW_QUAD_XY 617735.840 4026141.070 XY coords. - sec. SW quad cor.*
RMSE_XY 4.90 doq horiz. accuracy*
IMAGE_SOURCE "BLACK AND WHITE FILM" b&w, cir, natural color, other*
SOURCE_IMAGE_ID "NAPP 6920 48" source image id*
SOURCE_IMAGE_DATE 1994 5 13 source image date as yyyy mm dd*
SOURCE_DEM_DATE 1995 12 11 source dem date yyyy mm dd*
AGENCY "WESTERN MAPPING CENTER (WMC)" oversight agency*
PRODUCER "USFS" producer/contractor*
PRODUCTION_SYSTEM "DV2.6.1 6/95OV2.4 5/95" production system*
STANDARD_VERSION 1996 12 version of DOQ standard*
METADATA_DATE 1997 6 13 date created or changed, yyyy mm dd*
DATA_FILE_SIZE 48743916 data set size in bytes*
BYTE_COUNT 6396 header byte count* * * * * * * * * * * * * * * * * * * * * * * * * * * * * * * * * * * * *
END_USGS_HEADER *
