FILENAME: 36121E81
QUADRANGLE_NAME: MONTEREY
QUADRANT: NW
WEST_LONGITUDE: -122 0 0.00000
EAST_LONGITUDE: -121 56 15.00000
NORTH_LATITUDE: 36 37 30.00000
SOUTH_LATITUDE: 36 33 45.00000
PRODUCTION_DATE: 2001 11 27
RASTER_ORDER: LEFT_RIGHT/TOP_BOTTOM
BAND_ORGANIZATION: SINGLE FILE
BAND_CONTENT: BLACK&WHITE
BAND_CONTENT: UNDEFINED
BAND_CONTENT: UNDEFINED
BITS_PER_PIXEL: 8
SAMPLES_AND_LINES: 6390 7620
HORIZONTAL_DATUM: NAD83
HORIZONTAL_COORDINATE_SYSTEM: UTM
COORDINATE_ZONE: 10
HORIZONTAL_UNITS: METERS
HORIZONTAL_RESOLUTION: 1.00000
SECONDARY_HORIZONTAL_DATUM: NAD27
XY_ORIGIN: 588990.00000 4054110.00000
SECONDARY_XY_ORIGIN: 589087.72000 4053913.29500
NATION: US
STATE: CA
NW_QUAD_CORNER_XY: 589412.42500 4053739.23400
NE_QUAD_CORNER_XY: 595000.88300 4053799.24700
SE_QUAD_CORNERY_XY: 595077.53700 4046866.04500
SW_QUAD_CORNER_XY: 589484.56900 4046806.07200
SECONDARY_NW_QUAD_XY: 589414.58300 4053537.05600
SECONDARY_NE_QUAD_XY: 595003.17500 4053597.07000
SECONDARY_SE_QUAD_XY: 595079.82800 4046664.03700
SECONDARY_SW_QUAD_XY: 589486.72500 4046604.06200
RMSE_XY: 1.83000
IMAGE_SOURCE: BLACK AND WHITE FILM
SOURCE_IMAGE_ID: NAPP 10537 27
SOURCE_IMAGE_DATE: 1998 09 07
SOURCE_DEM_DATE: 2001 01 01
AGENCY: WESTERN MAPPING CENTER (WMC)
PRODUCER: SANBORN COLORADO, L.L.C.
PRODUCTION_SYSTEM: ORBIT OR_RECTIFY V.5.2
COMPRESSION: UNDEFINED
STANDARD_VERSION: 1996 12
METADATA_DATE: 2001 12 03
DATA_FILE_SIZE: 48698190
BYTE_COUNT: 6390
