FILENAME: 36121E84
QUADRANGLE_NAME: MONTEREY
QUADRANT: SW
WEST_LONGITUDE: -122 0 0.00000
EAST_LONGITUDE: -121 56 15.00000
NORTH_LATITUDE: 36 33 45.00000
SOUTH_LATITUDE: 36 30 0.00000
PRODUCTION_DATE: 2001 11 27
RASTER_ORDER: LEFT_RIGHT/TOP_BOTTOM
BAND_ORGANIZATION: SINGLE FILE
BAND_CONTENT: BLACK&WHITE
BAND_CONTENT: UNDEFINED
BAND_CONTENT: UNDEFINED
BITS_PER_PIXEL: 8
SAMPLES_AND_LINES: 6390 7620
HORIZONTAL_DATUM: NAD83
HORIZONTAL_COORDINATE_SYSTEM: UTM
COORDINATE_ZONE: 10
HORIZONTAL_UNITS: METERS
HORIZONTAL_RESOLUTION: 1.00000
SECONDARY_HORIZONTAL_DATUM: NAD27
XY_ORIGIN: 589080.00000 4047180.00000
SECONDARY_XY_ORIGIN: 589177.74900 4046983.31500
NATION: US
STATE: CA
NW_QUAD_CORNER_XY: 589484.56900 4046806.07200
NE_QUAD_CORNER_XY: 595077.53700 4046866.04500
SE_QUAD_CORNERY_XY: 595154.07800 4039932.91400
SW_QUAD_CORNER_XY: 589556.60600 4039872.98100
SECONDARY_NW_QUAD_XY: 589486.72500 4046604.06200
SECONDARY_NE_QUAD_XY: 595079.82800 4046664.03700
SECONDARY_SE_QUAD_XY: 595156.36700 4039731.07400
SECONDARY_SW_QUAD_XY: 589558.76000 4039671.13900
RMSE_XY: 3.76000
IMAGE_SOURCE: BLACK AND WHITE FILM
SOURCE_IMAGE_ID: NAPP 10537 25
SOURCE_IMAGE_DATE: 1998 09 07
SOURCE_DEM_DATE: 2001 01 01
AGENCY: WESTERN MAPPING CENTER (WMC)
PRODUCER: SANBORN COLORADO, L.L.C.
PRODUCTION_SYSTEM: ORBIT OR_RECTIFY V.5.2
COMPRESSION: UNDEFINED
STANDARD_VERSION: 1996 12
METADATA_DATE: 2001 12 03
DATA_FILE_SIZE: 48698190
BYTE_COUNT: 6390
