FILENAME: 36121F53
QUADRANGLE_NAME: NATIVIDAD
QUADRANT: SE
WEST_LONGITUDE: -121 33 45.00000
EAST_LONGITUDE: -121 30 0.00000
NORTH_LATITUDE: 36 41 15.00000
SOUTH_LATITUDE: 36 37 30.00000
PRODUCTION_DATE: 2001 11 27
RASTER_ORDER: LEFT_RIGHT/TOP_BOTTOM
BAND_ORGANIZATION: SINGLE FILE
BAND_CONTENT: BLACK&WHITE
BAND_CONTENT: UNDEFINED
BAND_CONTENT: UNDEFINED
BITS_PER_PIXEL: 8
SAMPLES_AND_LINES: 6420 7680
HORIZONTAL_DATUM: NAD83
HORIZONTAL_COORDINATE_SYSTEM: UTM
COORDINATE_ZONE: 10
HORIZONTAL_UNITS: METERS
HORIZONTAL_RESOLUTION: 1.00000
SECONDARY_HORIZONTAL_DATUM: NAD27
XY_ORIGIN: 628020.00000 4061580.00000
SECONDARY_XY_ORIGIN: 628117.22100 4061383.50600
NATION: US
STATE: CA
NW_QUAD_CORNER_XY: 628428.50900 4061169.29900
NE_QUAD_CORNER_XY: 634012.71800 4061254.84200
SE_QUAD_CORNERY_XY: 634121.11400 4054321.22700
SW_QUAD_CORNER_XY: 628532.38500 4054235.74000
SECONDARY_NW_QUAD_XY: 628431.61300 4060966.96600
SECONDARY_NE_QUAD_XY: 634015.95700 4061052.51100
SECONDARY_SE_QUAD_XY: 634124.35000 4054119.06300
SECONDARY_SW_QUAD_XY: 628535.48700 4054033.57400
RMSE_XY: 2.09000
IMAGE_SOURCE: BLACK AND WHITE FILM
SOURCE_IMAGE_ID: NAPP 10525 158
SOURCE_IMAGE_DATE: 1998 08 21
SOURCE_IMAGE_ID: NAPP 10525 160
SOURCE_IMAGE_DATE: 1998 08 21
SOURCE_DEM_DATE: 1984 00 00
AGENCY: WESTERN MAPPING CENTER (WMC)
PRODUCER: SANBORN COLORADO, L.L.C.
PRODUCTION_SYSTEM: ORBIT OR_RECTIFY V.5.2
COMPRESSION: UNDEFINED
STANDARD_VERSION: 1996 12
METADATA_DATE: 2001 12 05
DATA_FILE_SIZE: 49312020
BYTE_COUNT: 6420
