FILENAME: 36121F61
QUADRANGLE_NAME: SALINAS
QUADRANT: NW
WEST_LONGITUDE: -121 45 0.00000
EAST_LONGITUDE: -121 41 15.00000
NORTH_LATITUDE: 36 45 0.00000
SOUTH_LATITUDE: 36 41 15.00000
PRODUCTION_DATE: 2001 11 26
RASTER_ORDER: LEFT_RIGHT/TOP_BOTTOM
BAND_ORGANIZATION: SINGLE FILE
BAND_CONTENT: BLACK&WHITE
BAND_CONTENT: UNDEFINED
BAND_CONTENT: UNDEFINED
BITS_PER_PIXEL: 8
SAMPLES_AND_LINES: 6390 7650
HORIZONTAL_DATUM: NAD83
HORIZONTAL_COORDINATE_SYSTEM: UTM
COORDINATE_ZONE: 10
HORIZONTAL_UNITS: METERS
HORIZONTAL_RESOLUTION: 1.00000
SECONDARY_HORIZONTAL_DATUM: NAD27
XY_ORIGIN: 611190.00000 4068270.00000
SECONDARY_XY_ORIGIN: 611287.29500 4068073.43900
NATION: US
STATE: CA
NW_QUAD_CORNER_XY: 611585.68500 4067867.99600
NE_QUAD_CORNER_XY: 617165.24300 4067942.66200
SE_QUAD_CORNERY_XY: 617260.22200 4061009.13900
SW_QUAD_CORNER_XY: 611676.13900 4060934.52200
SECONDARY_NW_QUAD_XY: 611588.38700 4067665.49100
SECONDARY_NE_QUAD_XY: 617168.07900 4067740.15900
SECONDARY_SE_QUAD_XY: 617263.05600 4060806.80200
SECONDARY_SW_QUAD_XY: 611678.83900 4060732.18300
RMSE_XY: 1.77000
IMAGE_SOURCE: BLACK AND WHITE FILM
SOURCE_IMAGE_ID: NAPP 10540 16
SOURCE_IMAGE_DATE: 1998 09 13
SOURCE_DEM_DATE: 1991 02 01
AGENCY: WESTERN MAPPING CENTER (WMC)
PRODUCER: SANBORN COLORADO, L.L.C.
PRODUCTION_SYSTEM: ORBIT OR_RECTIFY V.5.2
COMPRESSION: UNDEFINED
STANDARD_VERSION: 1996 12
METADATA_DATE: 2001 11 26
DATA_FILE_SIZE: 48889890
BYTE_COUNT: 6390
