FILENAME: 36121F71
QUADRANGLE_NAME: MARINA
QUADRANT: NW
WEST_LONGITUDE: -121 52 30.00000
EAST_LONGITUDE: -121 48 45.00000
NORTH_LATITUDE: 36 45 0.00000
SOUTH_LATITUDE: 36 41 15.00000
PRODUCTION_DATE: 2001 11 26
RASTER_ORDER: LEFT_RIGHT/TOP_BOTTOM
BAND_ORGANIZATION: SINGLE FILE
BAND_CONTENT: BLACK&WHITE
BAND_CONTENT: UNDEFINED
BAND_CONTENT: UNDEFINED
BITS_PER_PIXEL: 8
SAMPLES_AND_LINES: 6390 7650
HORIZONTAL_DATUM: NAD83
HORIZONTAL_COORDINATE_SYSTEM: UTM
COORDINATE_ZONE: 10
HORIZONTAL_UNITS: METERS
HORIZONTAL_RESOLUTION: 1.00000
SECONDARY_HORIZONTAL_DATUM: NAD27
XY_ORIGIN: 600030.00000 4068120.00000
SECONDARY_XY_ORIGIN: 600127.47800 4067923.34800
NATION: US
STATE: CA
NW_QUAD_CORNER_XY: 600426.68300 4067729.59600
NE_QUAD_CORNER_XY: 606006.16600 4067796.97500
SE_QUAD_CORNERY_XY: 606092.09500 4060863.54700
SW_QUAD_CORNER_XY: 600508.08800 4060796.21200
SECONDARY_NW_QUAD_XY: 600429.11400 4067527.08800
SECONDARY_NE_QUAD_XY: 606008.73300 4067594.46800
SECONDARY_SE_QUAD_XY: 606094.66000 4060661.20600
SECONDARY_SW_QUAD_XY: 600510.51700 4060593.87000
RMSE_XY: 0.00000
IMAGE_SOURCE: BLACK AND WHITE FILM
SOURCE_IMAGE_ID: NAPP 10537 3
SOURCE_IMAGE_DATE: 1998 09 07
SOURCE_IMAGE_ID: NAPP 10537 16
SOURCE_IMAGE_DATE: 1998 09 07
SOURCE_DEM_DATE: 1991 03 01
AGENCY: WESTERN MAPPING CENTER (WMC)
PRODUCER: SANBORN COLORADO, L.L.C.
PRODUCTION_SYSTEM: ORBIT OR_RECTIFY V.5.2
COMPRESSION: UNDEFINED
STANDARD_VERSION: 1996 12
METADATA_DATE: 2001 11 26
DATA_FILE_SIZE: 48889890
BYTE_COUNT: 6390
