FILENAME: 36121G22
QUADRANGLE_NAME: QUIEN SABE VALLEY
QUADRANT: NE
WEST_LONGITUDE: -121 11 15.00000
EAST_LONGITUDE: -121 7 30.00000
NORTH_LATITUDE: 36 52 30.00000
SOUTH_LATITUDE: 36 48 45.00000
PRODUCTION_DATE: 2001 12 05
RASTER_ORDER: LEFT_RIGHT/TOP_BOTTOM
BAND_ORGANIZATION: SINGLE FILE
BAND_CONTENT: BLACK&WHITE
BAND_CONTENT: UNDEFINED
BAND_CONTENT: UNDEFINED
BITS_PER_PIXEL: 8
SAMPLES_AND_LINES: 6420 7680
HORIZONTAL_DATUM: NAD83
HORIZONTAL_COORDINATE_SYSTEM: UTM
COORDINATE_ZONE: 10
HORIZONTAL_UNITS: METERS
HORIZONTAL_RESOLUTION: 1.00000
SECONDARY_HORIZONTAL_DATUM: NAD27
XY_ORIGIN: 661140.00000 4082970.00000
SECONDARY_XY_ORIGIN: 661236.12500 4082774.29300
NATION: US
STATE: CA
NW_QUAD_CORNER_XY: 661540.33900 4082539.39100
NE_QUAD_CORNER_XY: 667111.24700 4082647.00300
SE_QUAD_CORNERY_XY: 667247.36600 4075712.80500
SW_QUAD_CORNER_XY: 661671.91600 4075605.26200
SECONDARY_NW_QUAD_XY: 661544.26300 4082336.57600
SECONDARY_NE_QUAD_XY: 667115.30700 4082444.19000
SECONDARY_SE_QUAD_XY: 667251.42200 4075510.15700
SECONDARY_SW_QUAD_XY: 661675.83700 4075402.61100
RMSE_XY: 3.38000
IMAGE_SOURCE: BLACK AND WHITE FILM
SOURCE_IMAGE_ID: NAPP 10521 206
SOURCE_IMAGE_DATE: 1998 08 16
SOURCE_IMAGE_ID: NAPP 10521 208
SOURCE_IMAGE_DATE: 1998 08 16
SOURCE_IMAGE_ID: NAPP 10521 183
SOURCE_IMAGE_DATE: 1998 08 16
SOURCE_IMAGE_ID: NAPP 10521 204
SOURCE_IMAGE_DATE: 1998 08 16
SOURCE_DEM_DATE: 1968 00 00
AGENCY: WESTERN MAPPING CENTER (WMC)
PRODUCER: SANBORN COLORADO, L.L.C.
PRODUCTION_SYSTEM: ORBIT OR_RECTIFY V.5.2
COMPRESSION: UNDEFINED
STANDARD_VERSION: 1996 12
METADATA_DATE: 2001 12 10
DATA_FILE_SIZE: 49312020
BYTE_COUNT: 6420
