FILENAME: 36121G54
QUADRANGLE_NAME: SAN JUAN BAUTISTA
QUADRANT: SW
WEST_LONGITUDE: -121 37 30.00000
EAST_LONGITUDE: -121 33 45.00000
NORTH_LATITUDE: 36 48 45.00000
SOUTH_LATITUDE: 36 45 0.00000
PRODUCTION_DATE: 2001 11 20
RASTER_ORDER: LEFT_RIGHT/TOP_BOTTOM
BAND_ORGANIZATION: SINGLE FILE
BAND_CONTENT: BLACK&WHITE
BAND_CONTENT: UNDEFINED
BAND_CONTENT: UNDEFINED
BITS_PER_PIXEL: 8
SAMPLES_AND_LINES: 6420 7650
HORIZONTAL_DATUM: NAD83
HORIZONTAL_COORDINATE_SYSTEM: UTM
COORDINATE_ZONE: 10
HORIZONTAL_UNITS: METERS
HORIZONTAL_RESOLUTION: 1.00000
SECONDARY_HORIZONTAL_DATUM: NAD27
XY_ORIGIN: 622230.00000 4075350.00000
SECONDARY_XY_ORIGIN: 622327.11800 4075153.54700
NATION: US
STATE: CA
NW_QUAD_CORNER_XY: 622645.19000 4074954.61400
NE_QUAD_CORNER_XY: 628220.29700 4075036.62200
SE_QUAD_CORNERY_XY: 628324.47900 4068102.92600
SW_QUAD_CORNER_XY: 622744.84000 4068020.97200
SECONDARY_NW_QUAD_XY: 622648.16400 4074751.94800
SECONDARY_NE_QUAD_XY: 628223.40600 4074833.95700
SECONDARY_SE_QUAD_XY: 628327.58600 4067900.42700
SECONDARY_SW_QUAD_XY: 622747.81200 4067818.47100
RMSE_XY: 2.10000
IMAGE_SOURCE: BLACK AND WHITE FILM
SOURCE_IMAGE_ID: NAPP 10525 107
SOURCE_IMAGE_DATE: 1998 08 21
SOURCE_DEM_DATE: 1952 00 00
AGENCY: WESTERN MAPPING CENTER (WMC)
PRODUCER: SANBORN COLORADO, L.L.C.
PRODUCTION_SYSTEM: ORBIT OR_RECTIFY V.5.2
COMPRESSION: UNDEFINED
STANDARD_VERSION: 1996 12
METADATA_DATE: 2001 11 21
DATA_FILE_SIZE: 49119420
BYTE_COUNT: 6420
