FILENAME: 36121H44
QUADRANGLE_NAME: SAN FELIPE
QUADRANT: SW
WEST_LONGITUDE: -121 30 0.00000
EAST_LONGITUDE: -121 26 15.00000
NORTH_LATITUDE: 36 56 15.00000
SOUTH_LATITUDE: 36 52 30.00000
PRODUCTION_DATE: 2001 11 06
RASTER_ORDER: LEFT_RIGHT/TOP_BOTTOM
BAND_ORGANIZATION: SINGLE FILE
BAND_CONTENT: BLACK&WHITE
BAND_CONTENT: UNDEFINED
BAND_CONTENT: UNDEFINED
BITS_PER_PIXEL: 8
SAMPLES_AND_LINES: 6390 7650
HORIZONTAL_DATUM: NAD83
HORIZONTAL_COORDINATE_SYSTEM: UTM
COORDINATE_ZONE: 10
HORIZONTAL_UNITS: METERS
HORIZONTAL_RESOLUTION: 1.00000
SECONDARY_HORIZONTAL_DATUM: NAD27
XY_ORIGIN: 633180.00000 4089390.00000
SECONDARY_XY_ORIGIN: 633276.71800 4089193.95300
NATION: US
STATE: CA
NW_QUAD_CORNER_XY: 633577.53800 4088989.98200
NE_QUAD_CORNER_XY: 639143.64700 4089079.39700
SE_QUAD_CORNERY_XY: 639257.22800 4082145.45300
SW_QUAD_CORNER_XY: 633686.57200 4082056.09500
SECONDARY_NW_QUAD_XY: 633580.78700 4088786.99100
SECONDARY_NE_QUAD_XY: 639147.03300 4088876.40900
SECONDARY_SE_QUAD_XY: 639260.61100 4081942.62900
SECONDARY_SW_QUAD_XY: 633689.81900 4081853.26800
RMSE_XY: 1.12000
IMAGE_SOURCE: BLACK AND WHITE FILM
SOURCE_IMAGE_ID: NAPP 10525 126
SOURCE_IMAGE_DATE: 1998 08 21
SOURCE_DEM_DATE: 1955 00 00
AGENCY: WESTERN MAPPING CENTER (WMC)
PRODUCER: SANBORN COLORADO, L.L.C.
PRODUCTION_SYSTEM: ORBIT OR_RECTIFY V.5.2
COMPRESSION: UNDEFINED
STANDARD_VERSION: 1996 12
METADATA_DATE: 2001 11 19
DATA_FILE_SIZE: 48889890
BYTE_COUNT: 6390
