BEGIN_USGS_DOQ_HEADER *
QUADRANGLE_NAME "SPRINGDALE" *
QUADRANT NW *
WEST_LONGITUDE -116 52 30.0 *
EAST_LONGITUDE -116 48 45.0 *
NORTH_LATITUDE 37 7 30.0 *
SOUTH_LATITUDE 37 3 45.0 *
PRODUCTION_DATE 1998 10 21 *
RASTER_ORDER LEFT_RIGHT/TOP_BOTTOM *
BAND_ORGANIZATION "SINGLE FILE" *
BAND_CONTENT BLACK&WHITE *
BITS_PER_PIXEL 8 *
SAMPLES_AND_LINES 6251 7561 *
HORIZONTAL_DATUM NAD83 *
HORIZONTAL_COORDINATE_SYSTEM UTM *
COORDINATE_ZONE 11 *
HORIZONTAL_UNITS METERS *
HORIZONTAL_RESOLUTION 1.0 *
SECONDARY_HORIZONTAL_DATUM NAD27 *
XY_ORIGIN 510720.000 4109060.000 *
SECONDARY_XY_ORIGIN 510800.131 4108863.486 *
NATION US *
STATE NV *
NW_QUAD_CORNER_XY 511103.778 4108746.484 *
NE_QUAD_CORNER_XY 516655.671 4108755.622 *
SE_QUAD_CORNER_XY 516669.356 4101822.174 *
SW_QUAD_CORNER_XY 511112.901 4101813.041 *
SECONDARY_NW_QUAD_XY 511104.049 4108542.981 *
SECONDARY_NE_QUAD_XY 516656.079 4108552.119 *
SECONDARY_SE_QUAD_XY 516669.763 4101618.833 *
SECONDARY_SW_QUAD_XY 511113.172 4101609.700 *
RMSE_XY 1.506 *
IMAGE_SOURCE "Black and White film" *
SOURCE_IMAGE_ID "NAPP 7317-101" *
SOURCE_IMAGE_DATE 1994 06 02 *
SOURCE_DEM_DATE 1992 00 00 *
AGENCY "WESTERN MAPPING CENTER (WMC)" *
PRODUCER "Hammon, Jensen, Wallen & Associates" *
PRODUCTION_SYSTEM "ORTHOVIEW" *
STANDARD_VERSION 1996 12 *
METADATA_DATE 1998 10 21 *
DATA_FILE_SIZE 47270062 *
BYTE_COUNT 6251 * * * * * * * * * * * * * * * * * * * * * * * * * * * * * * * * * * * *
END_USGS_HEADER *
