BEGIN_USGS_DOQ_HEADER *
QUADRANGLE_NAME "SPRINGDALE SW" *
QUADRANT NE *
WEST_LONGITUDE -116 56 15.0 *
EAST_LONGITUDE -116 52 30.0 *
NORTH_LATITUDE 37 7 30.0 *
SOUTH_LATITUDE 37 3 45.0 *
PRODUCTION_DATE 1998 10 21 *
RASTER_ORDER LEFT_RIGHT/TOP_BOTTOM *
BAND_ORGANIZATION "SINGLE FILE" *
BAND_CONTENT BLACK&WHITE *
BITS_PER_PIXEL 8 *
SAMPLES_AND_LINES 6251 7551 *
HORIZONTAL_DATUM NAD83 *
HORIZONTAL_COORDINATE_SYSTEM UTM *
COORDINATE_ZONE 11 *
HORIZONTAL_UNITS METERS *
HORIZONTAL_RESOLUTION 1.0 *
SECONDARY_HORIZONTAL_DATUM NAD27 *
XY_ORIGIN 505170.000 4109050.000 *
SECONDARY_XY_ORIGIN 505250.060 4108853.560 *
NATION US *
STATE NV *
NW_QUAD_CORNER_XY 505551.888 4108741.001 *
NE_QUAD_CORNER_XY 511103.778 4108746.484 *
SE_QUAD_CORNER_XY 511112.901 4101813.041 *
SW_QUAD_CORNER_XY 505556.450 4101807.562 *
SECONDARY_NW_QUAD_XY 505552.024 4108537.498 *
SECONDARY_NE_QUAD_XY 511104.049 4108542.981 *
SECONDARY_SE_QUAD_XY 511113.172 4101609.700 *
SECONDARY_SW_QUAD_XY 505556.585 4101604.220 *
RMSE_XY 2.028 *
IMAGE_SOURCE "Black and White film" *
SOURCE_IMAGE_ID "NAPP 7317-97" *
SOURCE_IMAGE_DATE 1994 06 02 *
SOURCE_DEM_DATE 1998 01 01 *
AGENCY "WESTERN MAPPING CENTER (WMC)" *
PRODUCER "Hammon, Jensen, Wallen & Associates" *
PRODUCTION_SYSTEM "ORTHOVIEW" *
STANDARD_VERSION 1996 12 *
METADATA_DATE 1998 10 21 *
DATA_FILE_SIZE 47207552 *
BYTE_COUNT 6251 * * * * * * * * * * * * * * * * * * * * * * * * * * * * * * * * * * * *
END_USGS_HEADER *
