BEGIN_USGS_DOQ_HEADER *
QUADRANGLE_NAME "SPRINGDALE SW" *
QUADRANT NW *
WEST_LONGITUDE -117 0 0.0 *
EAST_LONGITUDE -116 56 15.0 *
NORTH_LATITUDE 37 7 30.0 *
SOUTH_LATITUDE 37 3 45.0 *
PRODUCTION_DATE 1998 10 21 *
RASTER_ORDER LEFT_RIGHT/TOP_BOTTOM *
BAND_ORGANIZATION "SINGLE FILE" *
BAND_CONTENT BLACK&WHITE *
BITS_PER_PIXEL 8 *
SAMPLES_AND_LINES 6241 7561 *
HORIZONTAL_DATUM NAD83 *
HORIZONTAL_COORDINATE_SYSTEM UTM *
COORDINATE_ZONE 11 *
HORIZONTAL_UNITS METERS *
HORIZONTAL_RESOLUTION 1.0 *
SECONDARY_HORIZONTAL_DATUM NAD27 *
XY_ORIGIN 499620.000 4109050.000 *
SECONDARY_XY_ORIGIN 499699.991 4108853.632 *
NATION US *
STATE NV *
NW_QUAD_CORNER_XY 500000.000 4108739.173 *
NE_QUAD_CORNER_XY 505551.888 4108741.001 *
SE_QUAD_CORNER_XY 505556.450 4101807.562 *
SW_QUAD_CORNER_XY 500000.000 4101805.735 *
SECONDARY_NW_QUAD_XY 500000.000 4108535.670 *
SECONDARY_NE_QUAD_XY 505552.024 4108537.498 *
SECONDARY_SE_QUAD_XY 505556.585 4101604.220 *
SECONDARY_SW_QUAD_XY 500000.000 4101602.394 *
RMSE_XY 1.605 *
IMAGE_SOURCE "Black and White film" *
SOURCE_IMAGE_ID "NAPP 7317-82" *
SOURCE_IMAGE_DATE 1994 06 02 *
SOURCE_DEM_DATE 1998 01 01 *
AGENCY "WESTERN MAPPING CENTER (WMC)" *
PRODUCER "Hammon, Jensen, Wallen & Associates" *
PRODUCTION_SYSTEM "ORTHOVIEW" *
STANDARD_VERSION 1996 12 *
METADATA_DATE 1998 10 21 *
DATA_FILE_SIZE 47194442 *
BYTE_COUNT 6241 * * * * * * * * * * * * * * * * * * * * * * * * * * * * * * * * * * *
END_USGS_HEADER *
