BEGIN_USGS_DOQ_HEADER *
QUADRANGLE_NAME "SPRINGDALE SW" *
QUADRANT SW *
WEST_LONGITUDE -117 0 0.0 *
EAST_LONGITUDE -116 56 15.0 *
NORTH_LATITUDE 37 3 45.0 *
SOUTH_LATITUDE 37 0 0.0 *
PRODUCTION_DATE 1998 10 21 *
RASTER_ORDER LEFT_RIGHT/TOP_BOTTOM *
BAND_ORGANIZATION "SINGLE FILE" *
BAND_CONTENT BLACK&WHITE *
BITS_PER_PIXEL 8 *
SAMPLES_AND_LINES 6251 7551 *
HORIZONTAL_DATUM NAD83 *
HORIZONTAL_COORDINATE_SYSTEM UTM *
COORDINATE_ZONE 11 *
HORIZONTAL_UNITS METERS *
HORIZONTAL_RESOLUTION 1.0 *
SECONDARY_HORIZONTAL_DATUM NAD27 *
XY_ORIGIN 499620.000 4102110.000 *
SECONDARY_XY_ORIGIN 499699.936 4101913.562 *
NATION US *
STATE NV *
NW_QUAD_CORNER_XY 500000.000 4101805.735 *
NE_QUAD_CORNER_XY 505556.450 4101807.562 *
SE_QUAD_CORNER_XY 505561.004 4094874.196 *
SW_QUAD_CORNER_XY 500000.000 4094872.370 *
SECONDARY_NW_QUAD_XY 500000.000 4101602.394 *
SECONDARY_NE_QUAD_XY 505556.585 4101604.220 *
SECONDARY_SE_QUAD_XY 505561.140 4094671.016 *
SECONDARY_SW_QUAD_XY 500000.000 4094669.191 *
RMSE_XY 1.159 *
IMAGE_SOURCE "Black and White film" *
SOURCE_IMAGE_ID "NAPP 2739-10" *
SOURCE_IMAGE_DATE 1990 05 03 *
SOURCE_DEM_DATE 1998 01 01 *
AGENCY "WESTERN MAPPING CENTER (WMC)" *
PRODUCER "Hammon, Jensen, Wallen & Associates" *
PRODUCTION_SYSTEM "ORTHOVIEW" *
STANDARD_VERSION 1996 12 *
METADATA_DATE 1998 10 21 *
DATA_FILE_SIZE 47207552 *
BYTE_COUNT 6251 * * * * * * * * * * * * * * * * * * * * * * * * * * * * * * * * * * * *
END_USGS_HEADER *
