BEGIN_USGS_DOQ_HEADER *
QUADRANGLE_NAME "SPRINGDALE NW" *
QUADRANT SW *
WEST_LONGITUDE -117 0 0.0 *
EAST_LONGITUDE -116 56 15.0 *
NORTH_LATITUDE 37 11 15.0 *
SOUTH_LATITUDE 37 7 30.0 *
PRODUCTION_DATE 1998 10 21 *
RASTER_ORDER LEFT_RIGHT/TOP_BOTTOM *
BAND_ORGANIZATION "SINGLE FILE" *
BAND_CONTENT BLACK&WHITE *
BITS_PER_PIXEL 8 *
SAMPLES_AND_LINES 6251 7551 *
HORIZONTAL_DATUM NAD83 *
HORIZONTAL_COORDINATE_SYSTEM UTM *
COORDINATE_ZONE 11 *
HORIZONTAL_UNITS METERS *
HORIZONTAL_RESOLUTION 1.0 *
SECONDARY_HORIZONTAL_DATUM NAD27 *
XY_ORIGIN 499610.000 4115980.000 *
SECONDARY_XY_ORIGIN 499690.045 4115783.704 *
NATION US *
STATE NV *
NW_QUAD_CORNER_XY 500000.000 4115672.685 *
NE_QUAD_CORNER_XY 505547.320 4115674.513 *
SE_QUAD_CORNER_XY 505551.888 4108741.001 *
SW_QUAD_CORNER_XY 500000.000 4108739.173 *
SECONDARY_NW_QUAD_XY 500000.000 4115469.021 *
SECONDARY_NE_QUAD_XY 505547.456 4115470.850 *
SECONDARY_SE_QUAD_XY 505552.024 4108537.498 *
SECONDARY_SW_QUAD_XY 500000.000 4108535.670 *
RMSE_XY 1.669 *
IMAGE_SOURCE "Black and White film" *
SOURCE_IMAGE_ID "NAPP 7317-80" *
SOURCE_IMAGE_DATE 1994 06 02 *
SOURCE_DEM_DATE 1989 00 00 *
AGENCY "WESTERN MAPPING CENTER (WMC)" *
PRODUCER "Hammon, Jensen, Wallen & Associates" *
PRODUCTION_SYSTEM "ORTHOVIEW" *
STANDARD_VERSION 1996 12 *
METADATA_DATE 1998 10 21 *
DATA_FILE_SIZE 47207552 *
BYTE_COUNT 6251 * * * * * * * * * * * * * * * * * * * * * * * * * * * * * * * * * * * *
END_USGS_HEADER *
